BEGIN:VCALENDAR
VERSION:2.0
PRODID:-//Decision Women in Commerce and Professions - ECPv6.11.2.1//NONSGML v1.0//EN
CALSCALE:GREGORIAN
METHOD:PUBLISH
X-WR-CALNAME:Decision Women in Commerce and Professions
X-ORIGINAL-URL:https://decisionwomen.org
X-WR-CALDESC:Events for Decision Women in Commerce and Professions
REFRESH-INTERVAL;VALUE=DURATION:PT1H
X-Robots-Tag:noindex
X-PUBLISHED-TTL:PT1H
BEGIN:VTIMEZONE
TZID:America/New_York
BEGIN:DAYLIGHT
TZOFFSETFROM:-0500
TZOFFSETTO:-0400
TZNAME:EDT
DTSTART:20250309T070000
END:DAYLIGHT
BEGIN:STANDARD
TZOFFSETFROM:-0400
TZOFFSETTO:-0500
TZNAME:EST
DTSTART:20251102T060000
END:STANDARD
BEGIN:DAYLIGHT
TZOFFSETFROM:-0500
TZOFFSETTO:-0400
TZNAME:EDT
DTSTART:20260308T070000
END:DAYLIGHT
BEGIN:STANDARD
TZOFFSETFROM:-0400
TZOFFSETTO:-0500
TZNAME:EST
DTSTART:20261101T060000
END:STANDARD
END:VTIMEZONE
BEGIN:VEVENT
DTSTART;TZID=America/New_York:20251202T180000
DTEND;TZID=America/New_York:20251202T210000
DTSTAMP:20260424T194727
CREATED:20251120T231128Z
LAST-MODIFIED:20251120T231128Z
UID:2518-1764698400-1764709200@decisionwomen.org
SUMMARY:December 2025 Holiday Party!
DESCRIPTION:We look forward to you joining us at our Holiday Party!
URL:https://decisionwomen.org/event/december-2025-holiday-party/
LOCATION:The Meadow Club\, 1147 Route 112\, Port Jefferson Station\, NY\, 11776\, United States
END:VEVENT
BEGIN:VEVENT
DTSTART;TZID=America/New_York:20260108T180000
DTEND;TZID=America/New_York:20260108T203000
DTSTAMP:20260424T194727
CREATED:20251006T025037Z
LAST-MODIFIED:20251006T025037Z
UID:2498-1767895200-1767904200@decisionwomen.org
SUMMARY:January Monthly Membership Meeting
DESCRIPTION:Join us for our monthly meeting!
URL:https://decisionwomen.org/event/january-monthly-membership-meeting-2/
LOCATION:Hilton Garden Inn Stony Brook\, 1 Circle Road\, Stony Brook\, NY\, 11794\, United States
END:VEVENT
BEGIN:VEVENT
DTSTART;TZID=America/New_York:20260203T180000
DTEND;TZID=America/New_York:20260203T203000
DTSTAMP:20260424T194727
CREATED:20251006T025121Z
LAST-MODIFIED:20260112T195143Z
UID:2500-1770141600-1770150600@decisionwomen.org
SUMMARY:February Monthly Membership Meeting
DESCRIPTION:Join us for our monthly meeting!
URL:https://decisionwomen.org/event/february-monthly-membership-meeting-3/
LOCATION:Hilton Garden Inn Stony Brook\, 1 Circle Road\, Stony Brook\, NY\, 11794\, United States
END:VEVENT
BEGIN:VEVENT
DTSTART;TZID=America/New_York:20260303T180000
DTEND;TZID=America/New_York:20260303T203000
DTSTAMP:20260424T194727
CREATED:20251006T025202Z
LAST-MODIFIED:20260112T195217Z
UID:2502-1772560800-1772569800@decisionwomen.org
SUMMARY:March Monthly Membership Meeting
DESCRIPTION:Join us for our monthly meeting!
URL:https://decisionwomen.org/event/march-monthly-membership-meeting-3/
LOCATION:Hilton Garden Inn Stony Brook\, 1 Circle Road\, Stony Brook\, NY\, 11794\, United States
END:VEVENT
BEGIN:VEVENT
DTSTART;TZID=America/New_York:20260407T180000
DTEND;TZID=America/New_York:20260407T203000
DTSTAMP:20260424T194727
CREATED:20251120T230559Z
LAST-MODIFIED:20251120T230559Z
UID:2510-1775584800-1775593800@decisionwomen.org
SUMMARY:April Monthly Membership Meeting
DESCRIPTION:Join us for our monthly meeting!
URL:https://decisionwomen.org/event/april-monthly-membership-meeting-3/
LOCATION:Hilton Garden Inn Stony Brook\, 1 Circle Road\, Stony Brook\, NY\, 11794\, United States
END:VEVENT
BEGIN:VEVENT
DTSTART;TZID=America/New_York:20260505T180000
DTEND;TZID=America/New_York:20260505T203000
DTSTAMP:20260424T194727
CREATED:20251120T230636Z
LAST-MODIFIED:20251120T230636Z
UID:2512-1778004000-1778013000@decisionwomen.org
SUMMARY:May Monthly Membership Meeting
DESCRIPTION:Join us for our monthly meeting!
URL:https://decisionwomen.org/event/may-monthly-membership-meeting-3/
LOCATION:Hilton Garden Inn Stony Brook\, 1 Circle Road\, Stony Brook\, NY\, 11794\, United States
END:VEVENT
BEGIN:VEVENT
DTSTART;TZID=America/New_York:20260602T180000
DTEND;TZID=America/New_York:20260602T203000
DTSTAMP:20260424T194727
CREATED:20251120T230848Z
LAST-MODIFIED:20251120T230848Z
UID:2514-1780423200-1780432200@decisionwomen.org
SUMMARY:June Installation Dinner
DESCRIPTION:Join us for our Annual Installation Dinner!
URL:https://decisionwomen.org/event/june-installation-dinner-2/
LOCATION:The Meadow Club\, 1147 Route 112\, Port Jefferson Station\, NY\, 11776\, United States
END:VEVENT
BEGIN:VEVENT
DTSTART;TZID=America/New_York:20260707T180000
DTEND;TZID=America/New_York:20260707T203000
DTSTAMP:20260424T194727
CREATED:20251120T231034Z
LAST-MODIFIED:20251120T231034Z
UID:2516-1783447200-1783456200@decisionwomen.org
SUMMARY:Summer Soiree 2026
DESCRIPTION:Our Annual Summer Soiree is an evening of laughter\, memories\, and great company.  We look forward to seeing you! Details to be emailed to membership.
URL:https://decisionwomen.org/event/summer-soiree-2026/
LOCATION:NY
END:VEVENT
BEGIN:VEVENT
DTSTART;TZID=America/New_York:20260901T180000
DTEND;TZID=America/New_York:20260901T203000
DTSTAMP:20260424T194727
CREATED:20251120T231231Z
LAST-MODIFIED:20251120T231231Z
UID:2520-1788285600-1788294600@decisionwomen.org
SUMMARY:September Monthly Membership Meeting
DESCRIPTION:Join us for our monthly meeting!
URL:https://decisionwomen.org/event/september-monthly-membership-meeting-3/
LOCATION:Hilton Garden Inn Stony Brook\, 1 Circle Road\, Stony Brook\, NY\, 11794\, United States
END:VEVENT
BEGIN:VEVENT
DTSTART;TZID=America/New_York:20261006T180000
DTEND;TZID=America/New_York:20261006T203000
DTSTAMP:20260424T194727
CREATED:20251120T231316Z
LAST-MODIFIED:20251120T231316Z
UID:2522-1791309600-1791318600@decisionwomen.org
SUMMARY:October Monthly Membership Meeting
DESCRIPTION:Join us for our monthly meeting and Membership Drive!
URL:https://decisionwomen.org/event/october-monthly-membership-meeting-2/
LOCATION:The Meadow Club\, 1147 Route 112\, Port Jefferson Station\, NY\, 11776\, United States
END:VEVENT
BEGIN:VEVENT
DTSTART;TZID=America/New_York:20261103T180000
DTEND;TZID=America/New_York:20261103T203000
DTSTAMP:20260424T194727
CREATED:20251120T231347Z
LAST-MODIFIED:20251120T231347Z
UID:2524-1793728800-1793737800@decisionwomen.org
SUMMARY:November Monthly Membership Meeting
DESCRIPTION:Join us for our monthly meeting!
URL:https://decisionwomen.org/event/november-monthly-membership-meeting-3/
LOCATION:Hilton Garden Inn Stony Brook\, 1 Circle Road\, Stony Brook\, NY\, 11794\, United States
END:VEVENT
BEGIN:VEVENT
DTSTART;TZID=America/New_York:20261201T180000
DTEND;TZID=America/New_York:20261201T210000
DTSTAMP:20260424T194727
CREATED:20260112T195342Z
LAST-MODIFIED:20260112T195342Z
UID:2536-1796148000-1796158800@decisionwomen.org
SUMMARY:December 2026 Holiday Party!
DESCRIPTION:We look forward to you joining us at our Holiday Party!
URL:https://decisionwomen.org/event/december-2026-holiday-party/
LOCATION:The Meadow Club\, 1147 Route 112\, Port Jefferson Station\, NY\, 11776\, United States
END:VEVENT
END:VCALENDAR