BEGIN:VCALENDAR
VERSION:2.0
PRODID:-//Decision Women in Commerce and Professions - ECPv6.11.2.1//NONSGML v1.0//EN
CALSCALE:GREGORIAN
METHOD:PUBLISH
X-WR-CALNAME:Decision Women in Commerce and Professions
X-ORIGINAL-URL:https://decisionwomen.org
X-WR-CALDESC:Events for Decision Women in Commerce and Professions
REFRESH-INTERVAL;VALUE=DURATION:PT1H
X-Robots-Tag:noindex
X-PUBLISHED-TTL:PT1H
BEGIN:VTIMEZONE
TZID:America/New_York
BEGIN:DAYLIGHT
TZOFFSETFROM:-0500
TZOFFSETTO:-0400
TZNAME:EDT
DTSTART:20230312T070000
END:DAYLIGHT
BEGIN:STANDARD
TZOFFSETFROM:-0400
TZOFFSETTO:-0500
TZNAME:EST
DTSTART:20231105T060000
END:STANDARD
BEGIN:DAYLIGHT
TZOFFSETFROM:-0500
TZOFFSETTO:-0400
TZNAME:EDT
DTSTART:20240310T070000
END:DAYLIGHT
BEGIN:STANDARD
TZOFFSETFROM:-0400
TZOFFSETTO:-0500
TZNAME:EST
DTSTART:20241103T060000
END:STANDARD
BEGIN:DAYLIGHT
TZOFFSETFROM:-0500
TZOFFSETTO:-0400
TZNAME:EDT
DTSTART:20250309T070000
END:DAYLIGHT
BEGIN:STANDARD
TZOFFSETFROM:-0400
TZOFFSETTO:-0500
TZNAME:EST
DTSTART:20251102T060000
END:STANDARD
END:VTIMEZONE
BEGIN:VEVENT
DTSTART;TZID=America/New_York:20250902T180000
DTEND;TZID=America/New_York:20250902T203000
DTSTAMP:20260425T070347
CREATED:20250509T221655Z
LAST-MODIFIED:20250509T221655Z
UID:2461-1756836000-1756845000@decisionwomen.org
SUMMARY:September Monthly Membership Meeting
DESCRIPTION:Join us for our monthly meeting!
URL:https://decisionwomen.org/event/september-monthly-membership-meeting-2/
LOCATION:Hilton Garden Inn Stony Brook\, 1 Circle Road\, Stony Brook\, NY\, 11794\, United States
END:VEVENT
BEGIN:VEVENT
DTSTART;TZID=America/New_York:20250805T180000
DTEND;TZID=America/New_York:20250805T203000
DTSTAMP:20260425T070347
CREATED:20250707T070001Z
LAST-MODIFIED:20250707T193134Z
UID:2479-1754416800-1754425800@decisionwomen.org
SUMMARY:Summer Soiree 2025
DESCRIPTION:Our Annual Summer Soiree is an evening of laughter\, memories\, and great company.  We look forward to seeing you! Details to be emailed to membership.
URL:https://decisionwomen.org/event/summer-soiree-2025/
LOCATION:NY
END:VEVENT
BEGIN:VEVENT
DTSTART;TZID=America/New_York:20250603T180000
DTEND;TZID=America/New_York:20250603T203000
DTSTAMP:20260425T070347
CREATED:20240814T021655Z
LAST-MODIFIED:20240814T021655Z
UID:2391-1748973600-1748982600@decisionwomen.org
SUMMARY:Installation Dinner 2025
DESCRIPTION:Don’t miss our Installation Dinner\, as we welcome in our Board! \nLocation: The Meadow Club; 1147 Route 112\, Port Jeff Station\, NY \nEnjoy Cocktails\, Small Bites\, Networking\, Sit Down Dinner\, Dessert\, and more! \nFriends\, spouses\, guests welcome! \n$65 pp
URL:https://decisionwomen.org/event/installation-dinner-2025/
LOCATION:The Meadow Club\, 1147 Route 112\, Port Jefferson Station\, NY\, 11776\, United States
END:VEVENT
BEGIN:VEVENT
DTSTART;TZID=America/New_York:20250506T180000
DTEND;TZID=America/New_York:20250506T203000
DTSTAMP:20260425T070347
CREATED:20240814T021550Z
LAST-MODIFIED:20240814T021550Z
UID:2389-1746554400-1746563400@decisionwomen.org
SUMMARY:May Monthly Membership Meeting
DESCRIPTION:Join us for our monthly meeting!
URL:https://decisionwomen.org/event/may-monthly-membership-meeting-2/
LOCATION:Hilton Garden Inn Stony Brook\, 1 Circle Road\, Stony Brook\, NY\, 11794\, United States
END:VEVENT
BEGIN:VEVENT
DTSTART;TZID=America/New_York:20250401T180000
DTEND;TZID=America/New_York:20250401T203000
DTSTAMP:20260425T070347
CREATED:20240814T021450Z
LAST-MODIFIED:20240814T021511Z
UID:2387-1743530400-1743539400@decisionwomen.org
SUMMARY:April Monthly Membership Meeting
DESCRIPTION:Join us for our monthly meeting!
URL:https://decisionwomen.org/event/april-monthly-membership-meeting-2/
LOCATION:Hilton Garden Inn Stony Brook\, 1 Circle Road\, Stony Brook\, NY\, 11794\, United States
END:VEVENT
BEGIN:VEVENT
DTSTART;TZID=America/New_York:20250304T180000
DTEND;TZID=America/New_York:20250304T203000
DTSTAMP:20260425T070347
CREATED:20240814T021213Z
LAST-MODIFIED:20240814T021329Z
UID:2385-1741111200-1741120200@decisionwomen.org
SUMMARY:March Monthly Membership Meeting
DESCRIPTION:Join us for our monthly meeting!
URL:https://decisionwomen.org/event/march-monthly-membership-meeting-2/
LOCATION:Hilton Garden Inn Stony Brook\, 1 Circle Road\, Stony Brook\, NY\, 11794\, United States
END:VEVENT
BEGIN:VEVENT
DTSTART;TZID=America/New_York:20250204T180000
DTEND;TZID=America/New_York:20250204T203000
DTSTAMP:20260425T070347
CREATED:20240814T020719Z
LAST-MODIFIED:20240814T020902Z
UID:2381-1738692000-1738701000@decisionwomen.org
SUMMARY:February Monthly Membership Meeting
DESCRIPTION:Join us for our monthly meeting!
URL:https://decisionwomen.org/event/february-monthly-membership-meeting-2/
LOCATION:Hilton Garden Inn Stony Brook\, 1 Circle Road\, Stony Brook\, NY\, 11794\, United States
END:VEVENT
BEGIN:VEVENT
DTSTART;TZID=America/New_York:20250107T180000
DTEND;TZID=America/New_York:20250107T203000
DTSTAMP:20260425T070347
CREATED:20240814T021003Z
LAST-MODIFIED:20240814T021048Z
UID:2383-1736272800-1736281800@decisionwomen.org
SUMMARY:January Monthly Membership Meeting
DESCRIPTION:Join us for our monthly meeting!
URL:https://decisionwomen.org/event/january-monthly-membership-meeting/
LOCATION:Hilton Garden Inn Stony Brook\, 1 Circle Road\, Stony Brook\, NY\, 11794\, United States
END:VEVENT
BEGIN:VEVENT
DTSTART;TZID=America/New_York:20241210T180000
DTEND;TZID=America/New_York:20241210T210000
DTSTAMP:20260425T070347
CREATED:20231101T192854Z
LAST-MODIFIED:20240814T020501Z
UID:2322-1733853600-1733864400@decisionwomen.org
SUMMARY:December 2024 Holiday Party!
DESCRIPTION:We look forward to you joining us at our Holiday Party!
URL:https://decisionwomen.org/event/december-2024-holiday-party/
LOCATION:The Meadow Club\, 1147 Route 112\, Port Jefferson Station\, NY\, 11776\, United States
END:VEVENT
BEGIN:VEVENT
DTSTART;TZID=America/New_York:20241105T180000
DTEND;TZID=America/New_York:20241105T203000
DTSTAMP:20260425T070347
CREATED:20231101T192806Z
LAST-MODIFIED:20231101T192806Z
UID:2320-1730829600-1730838600@decisionwomen.org
SUMMARY:November Monthly Membership Meeting
DESCRIPTION:Join us for our monthly meeting!
URL:https://decisionwomen.org/event/november-monthly-membership-meeting/
LOCATION:Hilton Garden Inn Stony Brook\, 1 Circle Road\, Stony Brook\, NY\, 11794\, United States
END:VEVENT
BEGIN:VEVENT
DTSTART;TZID=America/New_York:20241001T180000
DTEND;TZID=America/New_York:20241001T203000
DTSTAMP:20260425T070347
CREATED:20231101T192729Z
LAST-MODIFIED:20240814T015429Z
UID:2318-1727805600-1727814600@decisionwomen.org
SUMMARY:Membership Drive 2024!
DESCRIPTION:Join us for our 2024 Membership Drive! \n 
URL:https://decisionwomen.org/event/membership-drive-2024/
LOCATION:The Meadow Club\, 1147 Route 112\, Port Jefferson Station\, NY\, 11776\, United States
END:VEVENT
BEGIN:VEVENT
DTSTART;TZID=America/New_York:20240910T180000
DTEND;TZID=America/New_York:20240910T203000
DTSTAMP:20260425T070347
CREATED:20231101T192046Z
LAST-MODIFIED:20240814T020311Z
UID:2316-1725991200-1726000200@decisionwomen.org
SUMMARY:September Monthly Membership Meeting
DESCRIPTION:Join us for our monthly meeting!
URL:https://decisionwomen.org/event/september-monthly-membership-meeting/
LOCATION:Hilton Garden Inn Stony Brook\, 1 Circle Road\, Stony Brook\, NY\, 11794\, United States
END:VEVENT
BEGIN:VEVENT
DTSTART;TZID=America/New_York:20240806T180000
DTEND;TZID=America/New_York:20240806T203000
DTSTAMP:20260425T070347
CREATED:20231101T191942Z
LAST-MODIFIED:20231101T191942Z
UID:2314-1722967200-1722976200@decisionwomen.org
SUMMARY:Summer Soiree 2024
DESCRIPTION:Our Annual Summer Soiree is an evening of laughter\, memories\, and great company.  We look forward to seeing you! Details to be emailed to membership.
URL:https://decisionwomen.org/event/summer-soiree-2024/
LOCATION:NY
END:VEVENT
BEGIN:VEVENT
DTSTART;TZID=America/New_York:20240604T180000
DTEND;TZID=America/New_York:20240604T203000
DTSTAMP:20260425T070347
CREATED:20231101T191818Z
LAST-MODIFIED:20240430T171907Z
UID:2310-1717524000-1717533000@decisionwomen.org
SUMMARY:Installation Dinner 2024
DESCRIPTION:Don’t miss our Installation Dinner\, as we welcome in our Board! \nLocation: The Meadow Club; 1147 Route 112\, Port Jeff Station\, NY \nEnjoy Cocktails\, Small Bites\, Networking\, Sit Down Dinner\, Dessert\, and more! \nFriends\, spouses\, guests welcome! \n$65 pp
URL:https://decisionwomen.org/event/installation-dinner-2024/
LOCATION:NY
END:VEVENT
BEGIN:VEVENT
DTSTART;TZID=America/New_York:20240507T180000
DTEND;TZID=America/New_York:20240507T203000
DTSTAMP:20260425T070347
CREATED:20231101T191846Z
LAST-MODIFIED:20231101T191846Z
UID:2312-1715104800-1715113800@decisionwomen.org
SUMMARY:May Monthly Membership Meeting
DESCRIPTION:Join us for our monthly meeting!
URL:https://decisionwomen.org/event/may-monthly-membership-meeting/
LOCATION:Hilton Garden Inn Stony Brook\, 1 Circle Road\, Stony Brook\, NY\, 11794\, United States
END:VEVENT
BEGIN:VEVENT
DTSTART;TZID=America/New_York:20240402T180000
DTEND;TZID=America/New_York:20240402T203000
DTSTAMP:20260425T070347
CREATED:20231101T191703Z
LAST-MODIFIED:20231101T191703Z
UID:2308-1712080800-1712089800@decisionwomen.org
SUMMARY:April Monthly Membership Meeting
DESCRIPTION:Join us for our monthly meeting!
URL:https://decisionwomen.org/event/april-monthly-membership-meeting/
LOCATION:Hilton Garden Inn Stony Brook\, 1 Circle Road\, Stony Brook\, NY\, 11794\, United States
END:VEVENT
BEGIN:VEVENT
DTSTART;TZID=America/New_York:20240305T180000
DTEND;TZID=America/New_York:20240305T203000
DTSTAMP:20260425T070347
CREATED:20231101T191637Z
LAST-MODIFIED:20240228T202329Z
UID:2306-1709661600-1709670600@decisionwomen.org
SUMMARY:March Monthly Membership Meeting
DESCRIPTION:Join us for our monthly meeting!  In honor of Women’s History Month our Guest Speaker is Vice Dean for Diversity\, Equity and Inclusion at Stony Brook University\, Dr. Judith Brown Clarke.\nDr. Clarke is a woman of “simply” amazing talent—athlete\, author\, elected official\, educator\, administrator\, and scientist!
URL:https://decisionwomen.org/event/march-monthly-membership-meeting/
LOCATION:Hilton Garden Inn Stony Brook\, 1 Circle Road\, Stony Brook\, NY\, 11794\, United States
END:VEVENT
BEGIN:VEVENT
DTSTART;TZID=America/New_York:20240206T180000
DTEND;TZID=America/New_York:20240206T203000
DTSTAMP:20260425T070347
CREATED:20231101T191604Z
LAST-MODIFIED:20231101T191604Z
UID:2304-1707242400-1707251400@decisionwomen.org
SUMMARY:February Monthly Membership Meeting
DESCRIPTION:Join us for our monthly meeting!
URL:https://decisionwomen.org/event/february-monthly-membership-meeting/
LOCATION:Hilton Garden Inn Stony Brook\, 1 Circle Road\, Stony Brook\, NY\, 11794\, United States
END:VEVENT
BEGIN:VEVENT
DTSTART;TZID=America/New_York:20231205T180000
DTEND;TZID=America/New_York:20231205T210000
DTSTAMP:20260425T070347
CREATED:20221223T181323Z
LAST-MODIFIED:20231127T200426Z
UID:2201-1701799200-1701810000@decisionwomen.org
SUMMARY:December 2023 Holiday Party!
DESCRIPTION:We look forward to you joining us at our Holiday Party!  Join us for our Glitz & Glam Gala!  There will be holiday activities\, favors\, and more!
URL:https://decisionwomen.org/event/december-2023-holiday-party/
LOCATION:The Meadow Club\, 1147 Route 112\, Port Jefferson Station\, NY\, 11776\, United States
END:VEVENT
BEGIN:VEVENT
DTSTART;TZID=America/New_York:20231107T180000
DTEND;TZID=America/New_York:20231107T203000
DTSTAMP:20260425T070347
CREATED:20221223T182710Z
LAST-MODIFIED:20221223T182710Z
UID:2241-1699380000-1699389000@decisionwomen.org
SUMMARY:Monthly Membership Meeting
DESCRIPTION:Join us for our monthly meeting!
URL:https://decisionwomen.org/event/monthly-membership-meeting-15/
LOCATION:Hilton Garden Inn Stony Brook\, 1 Circle Road\, Stony Brook\, NY\, 11794\, United States
END:VEVENT
BEGIN:VEVENT
DTSTART;TZID=America/New_York:20231010T180000
DTEND;TZID=America/New_York:20231010T203000
DTSTAMP:20260425T070347
CREATED:20230814T174648Z
LAST-MODIFIED:20230814T174648Z
UID:2288-1696960800-1696969800@decisionwomen.org
SUMMARY:Joint Meeting with Northwell at Port Jefferson Village Center!
DESCRIPTION:Don’t miss our joint meeting with Northwell at the Port Jefferson Village Center!
URL:https://decisionwomen.org/event/joint-meeting-with-northwell-at-port-jefferson-village-center/
LOCATION:Port Jefferson Village Center\, 101 E. Broadway\, Port Jefferson\, NY\, 11777\, United States
END:VEVENT
BEGIN:VEVENT
DTSTART;TZID=America/New_York:20231003T180000
DTEND;TZID=America/New_York:20231003T203000
DTSTAMP:20260425T070347
CREATED:20221223T182638Z
LAST-MODIFIED:20230914T172123Z
UID:2239-1696356000-1696365000@decisionwomen.org
SUMMARY:Membership Drive 2023!
DESCRIPTION:Join us for our 2023 Membership Drive! \nWhere: The Meadow Club \nAddress: 1147 Route 112\, Port Jeff Station \nDate: Tuesday\, October 3rd \nTime: 6-9pm \nInfo: Join us for our October Open House! A Women’s Elite Panel will be discussing The Barbie Effect – the lessons powerful women learn. \nRSVP: lmitchel@pwgrosser.com
URL:https://decisionwomen.org/event/monthly-membership-meeting-14/
LOCATION:The Meadow Club\, 1147 Route 112\, Port Jefferson Station\, NY\, 11776\, United States
END:VEVENT
BEGIN:VEVENT
DTSTART;TZID=America/New_York:20230905T180000
DTEND;TZID=America/New_York:20230905T203000
DTSTAMP:20260425T070347
CREATED:20221223T182519Z
LAST-MODIFIED:20221223T182609Z
UID:2237-1693936800-1693945800@decisionwomen.org
SUMMARY:Monthly Membership Meeting
DESCRIPTION:Join us for our monthly meeting!
URL:https://decisionwomen.org/event/monthly-membership-meeting-13/
LOCATION:Hilton Garden Inn Stony Brook\, 1 Circle Road\, Stony Brook\, NY\, 11794\, United States
END:VEVENT
BEGIN:VEVENT
DTSTART;TZID=America/New_York:20230808T180000
DTEND;TZID=America/New_York:20230808T203000
DTSTAMP:20260425T070347
CREATED:20221223T181955Z
LAST-MODIFIED:20230719T052506Z
UID:2233-1691517600-1691526600@decisionwomen.org
SUMMARY:Summer Soiree
DESCRIPTION:Our Annual Summer Soiree is an evening of laughter\, memories\, and great company.  We look forward to seeing you! Details to be emailed to membership.
URL:https://decisionwomen.org/event/summer-soiree-2/
LOCATION:NY
END:VEVENT
BEGIN:VEVENT
DTSTART;TZID=America/New_York:20230606T180000
DTEND;TZID=America/New_York:20230606T203000
DTSTAMP:20260425T070347
CREATED:20221223T182406Z
LAST-MODIFIED:20221223T182406Z
UID:2235-1686074400-1686083400@decisionwomen.org
SUMMARY:Installation Dinner 2023
DESCRIPTION:Don’t miss our Installation Dinner\, as we welcome in our Board!
URL:https://decisionwomen.org/event/installation-dinner-2023/
LOCATION:NY
END:VEVENT
BEGIN:VEVENT
DTSTART;TZID=America/New_York:20230502T180000
DTEND;TZID=America/New_York:20230502T203000
DTSTAMP:20260425T070347
CREATED:20221223T181905Z
LAST-MODIFIED:20221223T181905Z
UID:2231-1683050400-1683059400@decisionwomen.org
SUMMARY:Monthly Membership Meeting
DESCRIPTION:Join us for our monthly meeting!
URL:https://decisionwomen.org/event/monthly-membership-meeting-12/
LOCATION:Hilton Garden Inn Stony Brook\, 1 Circle Road\, Stony Brook\, NY\, 11794\, United States
END:VEVENT
BEGIN:VEVENT
DTSTART;TZID=America/New_York:20230415T140000
DTEND;TZID=America/New_York:20230415T160000
DTSTAMP:20260425T070347
CREATED:20230209T232529Z
LAST-MODIFIED:20230209T232529Z
UID:2255-1681567200-1681574400@decisionwomen.org
SUMMARY:Davis Town Meeting House Society's Victorian Tea!
DESCRIPTION:
URL:https://decisionwomen.org/event/davis-town-meeting-house-societys-victorian-tea/
LOCATION:Old Coram Fire Department\, 303 Middle Country Road\, Coram\, NY\, 11727\, United States
END:VEVENT
BEGIN:VEVENT
DTSTART;TZID=America/New_York:20230411T180000
DTEND;TZID=America/New_York:20230411T203000
DTSTAMP:20260425T070347
CREATED:20221223T181840Z
LAST-MODIFIED:20230325T155744Z
UID:2229-1681236000-1681245000@decisionwomen.org
SUMMARY:Monthly Membership Meeting
DESCRIPTION:Join us for our monthly meeting!
URL:https://decisionwomen.org/event/monthly-membership-meeting-11/
LOCATION:Hilton Garden Inn Stony Brook\, 1 Circle Road\, Stony Brook\, NY\, 11794\, United States
END:VEVENT
BEGIN:VEVENT
DTSTART;TZID=America/New_York:20230307T180000
DTEND;TZID=America/New_York:20230307T203000
DTSTAMP:20260425T070347
CREATED:20221223T181813Z
LAST-MODIFIED:20221223T181813Z
UID:2227-1678212000-1678221000@decisionwomen.org
SUMMARY:Monthly Membership Meeting
DESCRIPTION:Join us for our monthly meeting!
URL:https://decisionwomen.org/event/monthly-membership-meeting-10/
LOCATION:Hilton Garden Inn Stony Brook\, 1 Circle Road\, Stony Brook\, NY\, 11794\, United States
END:VEVENT
BEGIN:VEVENT
DTSTART;TZID=America/New_York:20230207T180000
DTEND;TZID=America/New_York:20230207T203000
DTSTAMP:20260425T070347
CREATED:20221223T181646Z
LAST-MODIFIED:20221223T181646Z
UID:2205-1675792800-1675801800@decisionwomen.org
SUMMARY:Monthly Membership Meeting
DESCRIPTION:Join us for our monthly meeting!
URL:https://decisionwomen.org/event/monthly-membership-meeting-9/
LOCATION:Hilton Garden Inn Stony Brook\, 1 Circle Road\, Stony Brook\, NY\, 11794\, United States
END:VEVENT
END:VCALENDAR