BEGIN:VCALENDAR
VERSION:2.0
PRODID:-//Decision Women in Commerce and Professions - ECPv6.11.2.1//NONSGML v1.0//EN
CALSCALE:GREGORIAN
METHOD:PUBLISH
X-WR-CALNAME:Decision Women in Commerce and Professions
X-ORIGINAL-URL:https://decisionwomen.org
X-WR-CALDESC:Events for Decision Women in Commerce and Professions
REFRESH-INTERVAL;VALUE=DURATION:PT1H
X-Robots-Tag:noindex
X-PUBLISHED-TTL:PT1H
BEGIN:VTIMEZONE
TZID:America/New_York
BEGIN:DAYLIGHT
TZOFFSETFROM:-0500
TZOFFSETTO:-0400
TZNAME:EDT
DTSTART:20180311T070000
END:DAYLIGHT
BEGIN:STANDARD
TZOFFSETFROM:-0400
TZOFFSETTO:-0500
TZNAME:EST
DTSTART:20181104T060000
END:STANDARD
BEGIN:DAYLIGHT
TZOFFSETFROM:-0500
TZOFFSETTO:-0400
TZNAME:EDT
DTSTART:20190310T070000
END:DAYLIGHT
BEGIN:STANDARD
TZOFFSETFROM:-0400
TZOFFSETTO:-0500
TZNAME:EST
DTSTART:20191103T060000
END:STANDARD
END:VTIMEZONE
BEGIN:VEVENT
DTSTART;TZID=America/New_York:20191203T180000
DTEND;TZID=America/New_York:20191203T210000
DTSTAMP:20260425T224035
CREATED:20190106T155851Z
LAST-MODIFIED:20191203T201735Z
UID:1387-1575396000-1575406800@decisionwomen.org
SUMMARY:December Holiday Party
DESCRIPTION:
URL:https://decisionwomen.org/event/december-holiday-party-3/
END:VEVENT
BEGIN:VEVENT
DTSTART;TZID=America/New_York:20191105T180000
DTEND;TZID=America/New_York:20191105T210000
DTSTAMP:20260425T224035
CREATED:20191025T135638Z
LAST-MODIFIED:20191025T144411Z
UID:1385-1572976800-1572987600@decisionwomen.org
SUMMARY:November General Meeting
DESCRIPTION:6-9pm \nCarnival Restaurant \nTopic: \nRick Levine from RAMS will be presenting! \nHave you ever felt like you were being overcharged for your Business Utilities? You’re probably right! \nDid you know that your money has been accumulating in an escrow account for the last 5 years waiting for you to claim it? \nRAMS performs a 5 YEAR FORENSIC UTILITY AUDIT to recoup any overcharges and incorrect billings to customers and has retrieved  Hundreds Thousands of Dollars   in refunds for Clients.
URL:https://decisionwomen.org/event/november-general-meeting-2/
LOCATION:Carnival Restaurant\, 4900 Nesconset Highway\, Port Jefferson Station\, 11776\, United States
END:VEVENT
BEGIN:VEVENT
DTSTART;TZID=America/New_York:20191001T180000
DTEND;TZID=America/New_York:20191001T210000
DTSTAMP:20260425T224035
CREATED:20190106T155451Z
LAST-MODIFIED:20190106T155451Z
UID:1383-1569952800-1569963600@decisionwomen.org
SUMMARY:October General Meeting
DESCRIPTION:6-9pm \nCarnival Restaurant \nTopic TBA
URL:https://decisionwomen.org/event/october-general-meeting/
LOCATION:Carnival Restaurant\, 4900 Nesconset Highway\, Port Jefferson Station\, 11776\, United States
END:VEVENT
BEGIN:VEVENT
DTSTART;TZID=America/New_York:20190928T100000
DTEND;TZID=America/New_York:20190928T160000
DTSTAMP:20260425T224035
CREATED:20190904T155608Z
LAST-MODIFIED:20190904T155608Z
UID:1537-1569664800-1569686400@decisionwomen.org
SUMMARY:Family Fun Day
DESCRIPTION:Family Fun Day sponsored by the Port Jefferson Station/Terryville  Chamber of Commerce \nSaturday\, September 28th \n10am-4pm \nChamber Train Car Park \nRt 112 & Rt 347\, Port Jefferson Station\, NY
URL:https://decisionwomen.org/event/family-fun-day/
LOCATION:port Jefferson Station Chamber Train Car\, Rt 112 & Rt 347\, Port Jefferson Station\, Ny\, 11776\, United States
ATTACH;FMTTYPE=image/jpeg:https://decisionwomen.org/wp-content/uploads/2019/09/7CD9AB87-0322-4079-BEE7-C2F0CCCEE903.jpeg
END:VEVENT
BEGIN:VEVENT
DTSTART;TZID=America/New_York:20190921T100000
DTEND;TZID=America/New_York:20190921T160000
DTSTAMP:20260425T224035
CREATED:20190904T154641Z
LAST-MODIFIED:20190904T154641Z
UID:1534-1569060000-1569081600@decisionwomen.org
SUMMARY:Yard Sale & Craft Fair
DESCRIPTION:Yard Sale & Craft Fair hosted by the Davis Town Meeting House SocietY \nSaturday\, September 21 \n(rain date: Sunday: September 22) \n10am – 4 pm \nDavis House:  263 Middle Country Rd\, Coram\, NY \nVENDORS: please contact Maryanne Douglas: (631)804-2256 or email: msiclaridouglas@yahoo.con \n 
URL:https://decisionwomen.org/event/yard-sale-craft-fair/
LOCATION:Davis Town Meeting House\, 263 Middle Country Road\, Coram\, NY\, 11727\, United States
ATTACH;FMTTYPE=image/jpeg:https://decisionwomen.org/wp-content/uploads/2019/09/EEEDCE79-50AC-416B-884C-1FD8CF360298.jpeg
END:VEVENT
BEGIN:VEVENT
DTSTART;TZID=America/New_York:20190919T190000
DTEND;TZID=America/New_York:20190919T220000
DTSTAMP:20260425T224035
CREATED:20190904T153819Z
LAST-MODIFIED:20190904T153819Z
UID:1529-1568919600-1568930400@decisionwomen.org
SUMMARY:Vino & Bingo 9/19/19
DESCRIPTION:Vino & Bingo Fundraiser hosted by St. Charles Friends of the Foundation\, to benefit the Maternal Child Pavilion  at St. Charles Hospital. \nThursday\, September 19\, 2019 \n7:00-10:00 pm \nBelle Terre Community Center \n55 Cliff Rd\, Belle Terre\, NY \n$40pp includes: bingo card\, light fare & wine \nRSVP: (631)474-6465 or \nEmail: Jillian.higgins@chsli.org \n  \n  \n  \n  \n 
URL:https://decisionwomen.org/event/vino-bingo-9-19-19/
ATTACH;FMTTYPE=image/jpeg:https://decisionwomen.org/wp-content/uploads/2019/09/ABB9EA41-3CE6-4504-AAF5-00D304FA5CEF.jpeg
END:VEVENT
BEGIN:VEVENT
DTSTART;TZID=America/New_York:20190914T083000
DTEND;TZID=America/New_York:20190914T083000
DTSTAMP:20260425T224035
CREATED:20190904T152259Z
LAST-MODIFIED:20190904T152259Z
UID:1524-1568449800-1568449800@decisionwomen.org
SUMMARY:Annual Dragon Boat Race Festival
DESCRIPTION:Saturday\, September 14\, 2019 \n8:30 am \nMayor Jeanne Garant Harborfront Park Lawn \n101A East Broadway\, Port Jefferson\, NY
URL:https://decisionwomen.org/event/annual-dragon-boat-race-festival/
ATTACH;FMTTYPE=image/jpeg:https://decisionwomen.org/wp-content/uploads/2019/09/E65D6CF3-51EF-4830-A1F0-C1F40F510105.jpeg
ORGANIZER;CN="Port Jefferson Chamber of Commerce":MAILTO:Info@portjeffchamber.com
END:VEVENT
BEGIN:VEVENT
DTSTART;TZID=America/New_York:20190907T100000
DTEND;TZID=America/New_York:20190908T170000
DTSTAMP:20260425T224035
CREATED:20190904T151434Z
LAST-MODIFIED:20190904T152722Z
UID:1518-1567850400-1567962000@decisionwomen.org
SUMMARY:Longwood Fair 9/7 & 9/8 2019
DESCRIPTION:Saturday\, September 7 & \nSunday\, September 8 \n10:00 am – 5:00 pm both days \nLongwood Estate:  Corner of Longwood Road & Smith Road\, Ridge
URL:https://decisionwomen.org/event/longwood-fair-9-6-9-8-2019/
ATTACH;FMTTYPE=image/jpeg:https://decisionwomen.org/wp-content/uploads/2019/09/50F7BD50-B6B0-45D9-B34E-F2A2E295604B.jpeg
END:VEVENT
BEGIN:VEVENT
DTSTART;TZID=America/New_York:20190903T180000
DTEND;TZID=America/New_York:20190903T210000
DTSTAMP:20260425T224035
CREATED:20190106T155302Z
LAST-MODIFIED:20190719T222920Z
UID:1381-1567533600-1567544400@decisionwomen.org
SUMMARY:September Member Forum Meeting
DESCRIPTION:6-9pm \nCarnival Restaurant \nTopic: Member Forum Meeting: What Can Decision do for you?
URL:https://decisionwomen.org/event/september-general-meeting-2/
LOCATION:Carnival Restaurant\, 4900 Nesconset Highway\, Port Jefferson Station\, 11776\, United States
END:VEVENT
BEGIN:VEVENT
DTSTART;TZID=America/New_York:20190806T180000
DTEND;TZID=America/New_York:20190806T210000
DTSTAMP:20260425T224035
CREATED:20190719T145125Z
LAST-MODIFIED:20190719T222323Z
UID:1379-1565114400-1565125200@decisionwomen.org
SUMMARY:August Summer Soiree
DESCRIPTION:
URL:https://decisionwomen.org/event/august-summer-soiree/
END:VEVENT
BEGIN:VEVENT
DTSTART;VALUE=DATE:20190702
DTEND;VALUE=DATE:20190703
DTSTAMP:20260425T224035
CREATED:20190106T154911Z
LAST-MODIFIED:20190106T154911Z
UID:1377-1562025600-1562111999@decisionwomen.org
SUMMARY:July 2019: No Meeting
DESCRIPTION:No Meeting \nHappy Summer!
URL:https://decisionwomen.org/event/july-2019-no-meeting/
END:VEVENT
BEGIN:VEVENT
DTSTART;TZID=America/New_York:20190604T180000
DTEND;TZID=America/New_York:20190604T210000
DTSTAMP:20260425T224035
CREATED:20190605T144409Z
LAST-MODIFIED:20190605T211516Z
UID:1373-1559671200-1559682000@decisionwomen.org
SUMMARY:Decision 40th Anniversary & Installation Dinner
DESCRIPTION:It is Decision’s 40th Anniversary & Installation Celebration!! \n6-9pm \nOld Field Club\, Setauket\, NY \nDecision Board Installation & 40th Anniversary Celebration \n Please contact for this event with any questions or concerns:  Marion McNulty:  631-928-2557 \nThank you for such a great time!  
URL:https://decisionwomen.org/event/decision-board-installation-2/
LOCATION:Old Field Club\, 86 West Meadow Road\, Setauket\, NY\, 11733\, United States
ATTACH;FMTTYPE=image/jpeg:https://decisionwomen.org/wp-content/uploads/2019/01/Decision-Installation-40th-6419.jpg-.jpg
END:VEVENT
BEGIN:VEVENT
DTSTART;TZID=America/New_York:20190507T180000
DTEND;TZID=America/New_York:20190507T210000
DTSTAMP:20260425T224035
CREATED:20190106T154149Z
LAST-MODIFIED:20190106T154149Z
UID:1371-1557252000-1557262800@decisionwomen.org
SUMMARY:Members Only Meeting
DESCRIPTION:6-9pm \nCarnival Restaurant \nTopic:  Reports from Board and Committees
URL:https://decisionwomen.org/event/members-only-meeting/
LOCATION:Carnival Restaurant\, 4900 Nesconset Highway\, Port Jefferson Station\, 11776\, United States
END:VEVENT
BEGIN:VEVENT
DTSTART;TZID=America/New_York:20190504T140000
DTEND;TZID=America/New_York:20190504T160000
DTSTAMP:20260425T224035
CREATED:20190319T102745Z
LAST-MODIFIED:20190319T102745Z
UID:1409-1556978400-1556985600@decisionwomen.org
SUMMARY:Davis Town Meeting House: Flowers & Lace Tea Party
DESCRIPTION:The Davis Town Meeting House 3rd Annual Flowers and Lace Tea Party \nSaturday\, May 4th\, 2019 from 2-4pm \nOld Coram Fire Department\, 300 Middle Country Road\, Coram \n$30 pp: checks payable to: The Davis House Town Meeting Society\, & Mail to: PO Box 4\, Coram\, NY 11727 \nSeating is limited\, so please RSVP to Barbara Hoff:  (631)698-0018\, or BarbLI495@yahoo.com
URL:https://decisionwomen.org/event/davis-town-meeting-house-flowers-lace-tea-party/
LOCATION:Old Coram Fire Department\, 303 Middle Country Road\, Coram\, NY\, 11727\, United States
ATTACH;FMTTYPE=image/jpeg:https://decisionwomen.org/wp-content/uploads/2019/03/53337704_883805015286391_7196066869491531776_n-2.jpg
ORGANIZER;CN="Davis Town Meeting House Society":MAILTO:BARBLI495@yahoo.com
END:VEVENT
BEGIN:VEVENT
DTSTART;TZID=America/New_York:20190402T180000
DTEND;TZID=America/New_York:20190402T210000
DTSTAMP:20260425T224035
CREATED:20190106T153947Z
LAST-MODIFIED:20190127T142432Z
UID:1369-1554228000-1554238800@decisionwomen.org
SUMMARY:April General Meeting
DESCRIPTION:April 2nd \n6-9 pm \nCarnival Restaurant in Port Jefferson Station \nDr. David Spector from Cold Spring Harbor Laboratory will be our guest speaker.  He will be speaking on Henrietta Lacks\, whose cancer cells are the source of the HeLa cell line\, which is one of the most important cell lines in medical research. Because an immortalized cell line reproduces indefinitely under specific conditions\, the HeLa cell line continues to be a source of invaluable medical data to this day. \nPlease RSVP to Cathy: \n(631)790-1726 \nCCurry631@gmail.com
URL:https://decisionwomen.org/event/april-general-meeting/
LOCATION:Carnival Restaurant\, 4900 Nesconset Highway\, Port Jefferson Station\, 11776\, United States
ATTACH;FMTTYPE=image/jpeg:https://decisionwomen.org/wp-content/uploads/2019/01/Henrietta-Lacks-for-Decision-4219-meeting.jpg
END:VEVENT
BEGIN:VEVENT
DTSTART;TZID=America/New_York:20190305T180000
DTEND;TZID=America/New_York:20190305T210000
DTSTAMP:20260425T224035
CREATED:20190106T153750Z
LAST-MODIFIED:20190302T163732Z
UID:1367-1551808800-1551819600@decisionwomen.org
SUMMARY:March Women's History Month Meeting
DESCRIPTION:6-9pm \nCarnival Restaurant \nMarch is Women’s History Month\, and we are honored to have Barbara Russell as our guest speaker for our March 5th meeting. Barbara is the Town of Brookhaven Historian\, and she will be speaking about noted people born in Brookhaven. \nInterested in future membership? Please let us know\, and join us on March 5th! \nRSVP to Cathy Curry: \n(631)790-1726 \nCCurry631@gmail.com \n 
URL:https://decisionwomen.org/event/womens-history-month-meeting/
LOCATION:Carnival Restaurant\, 4900 Nesconset Highway\, Port Jefferson Station\, 11776\, United States
ATTACH;FMTTYPE=image/jpeg:https://decisionwomen.org/wp-content/uploads/2019/01/Barbara-Russell-Town-of-Brookhaven-Historian-2020.jpg
END:VEVENT
BEGIN:VEVENT
DTSTART;TZID=America/New_York:20190205T180000
DTEND;TZID=America/New_York:20190205T210000
DTSTAMP:20260425T224035
CREATED:20190106T153438Z
LAST-MODIFIED:20190507T211633Z
UID:1365-1549389600-1549400400@decisionwomen.org
SUMMARY:February General Meeting
DESCRIPTION:February 5th \n6-9 pm \nCarnival Restaurant in Port Jefferson Station \nCOPE Officer Casey Berry will be our guest speaker\, and she will be speaking on women’s safety and ways to protect themselves. \nPlease RSVP to Cathy: \n(631)790-1726 \nCCurry631@gmail.com \n  \n 
URL:https://decisionwomen.org/event/february-general-meeting/
LOCATION:Carnival Restaurant\, 4900 Nesconset Highway\, Port Jefferson Station\, 11776\, United States
ATTACH;FMTTYPE=image/jpeg:https://decisionwomen.org/wp-content/uploads/2019/01/purse-snathcher-for-Decision-2519-meeting.jpg
END:VEVENT
BEGIN:VEVENT
DTSTART;TZID=America/New_York:20190108T180000
DTEND;TZID=America/New_York:20190108T210000
DTSTAMP:20260425T224035
CREATED:20190106T142717Z
LAST-MODIFIED:20190106T142717Z
UID:1361-1546970400-1546981200@decisionwomen.org
SUMMARY:January 2019 General Meeting
DESCRIPTION:Join us at 6P on Tuesday\, January 8th at Carnival Restaurant (4900 Nesconset Hwy\, Port Jefferson) for our first meeting of 2019! Barbara DeMatteo will be our Guest Speaker! Barbara is Director of H.R. Consulting\, and an accomplished professional whose Human Resource experience spans over 35 years. In supporting businesses in varied industries across the United States\, Barbara continually develops her knowledge of federal and state employment regulations\, employee relations\, and interviewing and training\, as well as coaching supervisors and managers. Barbara will be speaking about the new NYS Sexual Harrassment and Anti-Discrimination Policy \nAll are welcome! \nPlease RSVP to Cathy Curry:  (631)790-3726
URL:https://decisionwomen.org/event/january-2019-general-meeting/
LOCATION:Carnival Restaurant\, 4900 Nesconset Highway\, Port Jefferson Station\, 11776\, United States
ATTACH;FMTTYPE=image/png:https://decisionwomen.org/wp-content/uploads/2019/01/Barbara-DeMatteo.png
END:VEVENT
BEGIN:VEVENT
DTSTART;TZID=America/New_York:20181204T180000
DTEND;TZID=America/New_York:20181204T220000
DTSTAMP:20260425T224035
CREATED:20180324T145644Z
LAST-MODIFIED:20181202T150748Z
UID:1154-1543946400-1543960800@decisionwomen.org
SUMMARY:December Holiday Party
DESCRIPTION:Tuesday\, December 4th \n6-10PM \nDanford’s On The Sound Coastal Room \n25 East Broadway \nPort Jefferson\, NY  11777 \n$55 pp \n~ Wear White if Possible\n~ If you wish to participate in our gift exchange\, please bring a wrapped gift valued at $25+
URL:https://decisionwomen.org/event/december-holiday-party-2/
LOCATION:Danford’s On The Sound Coastal Room\, 25 East Broadway\, Port jefferson\, NY\, 11777\, United States
ATTACH;FMTTYPE=image/jpeg:https://decisionwomen.org/wp-content/uploads/2018/12/Decision-Holiday-Party-1242018.jpg
END:VEVENT
BEGIN:VEVENT
DTSTART;TZID=America/New_York:20181117T190000
DTEND;TZID=America/New_York:20181117T230000
DTSTAMP:20260425T224035
CREATED:20181016T141933Z
LAST-MODIFIED:20181016T142426Z
UID:1336-1542481200-1542495600@decisionwomen.org
SUMMARY:Decision November 17th Texas Hold 'Em Fundraiser
DESCRIPTION:7-11 PM \nThe Polish American Hall\, 35 Jayne Blvd\, Port Jefferson Station. \nPlease RSVP to Cathy Curry: (631)790-3726 \n$100 Pre-Paid Registration
URL:https://decisionwomen.org/event/decision-november-17th-texas-hold-em-fundraiser/
LOCATION:The Polish American Hall\, 35 Jayne Boulevard\, Port Jefferson Station\, NY\, 11776\, United States
ATTACH;FMTTYPE=image/jpeg:https://decisionwomen.org/wp-content/uploads/2018/10/TEXAS-HOLD-EM-FLYER-Decision-111718.jpg
END:VEVENT
BEGIN:VEVENT
DTSTART;TZID=America/New_York:20181106T180000
DTEND;TZID=America/New_York:20181106T210000
DTSTAMP:20260425T224035
CREATED:20180324T144727Z
LAST-MODIFIED:20181016T140817Z
UID:1140-1541527200-1541538000@decisionwomen.org
SUMMARY:November General Meeting
DESCRIPTION:Tuesday\, November 6th \n6-9PM \nCarnival Restaurant at 4900 Nesconset Highway\, Port Jefferson Station \nDecision Member Pre-Holiday Showcase – Members please set up at 5:30 PM \nFeatured presenter – Major Dan Tarantino will be giving pointers on Texas Hold ‘Em Poker\, just in time for our Texas Hold ‘Em Fundraiser on November 17th\, from 7-11 PM at the Polish American Hall\, 35 Jayne Blvd\, Port Jefferson Station. \nPlease RSVP to Cathy Curry: (631)790-3726
URL:https://decisionwomen.org/event/november-general-meeting/
LOCATION:Carnival Restaurant\, 4900 Nesconset Highway\, Port Jefferson Station\, 11776\, United States
END:VEVENT
BEGIN:VEVENT
DTSTART;TZID=America/New_York:20181002T180000
DTEND;TZID=America/New_York:20181002T210000
DTSTAMP:20260425T224035
CREATED:20180324T144442Z
LAST-MODIFIED:20180913T101630Z
UID:1136-1538503200-1538514000@decisionwomen.org
SUMMARY:October Decision 40th Annual Membership Event
DESCRIPTION:Come Celebrate 40 Years with Us! \nTuesday\, October 2nd \n6-9PM \nHoliday Inn Express Stony Brook \n3131 Nesconset Highway \nCentereach\, NY  11720 \n(631)698-7767 \nGuests are FREE!
URL:https://decisionwomen.org/event/october-decision-membership-drive/
LOCATION:Holiday Inn Express Stony Brook\, 3131 Nesconset Highway\, Centereach\, NY\, 11720\, United States
END:VEVENT
BEGIN:VEVENT
DTSTART;TZID=America/New_York:20180922T100000
DTEND;TZID=America/New_York:20180922T160000
DTSTAMP:20260425T224035
CREATED:20180804T161715Z
LAST-MODIFIED:20180804T161715Z
UID:1266-1537610400-1537632000@decisionwomen.org
SUMMARY:Davis Town Meeting House 6th Annual Yard Sale & Craft Fair
DESCRIPTION:This year the NY 3rd Regiment will do a Revolutionary War Presentation
URL:https://decisionwomen.org/event/davis-town-meeting-house-6th-annual-yard-sale-craft-fair/
LOCATION:Davis Town Meeting House\, 263 Middle Country Road\, Coram\, NY\, 11727\, United States
ORGANIZER;CN="Davis Town Meeting House Society":MAILTO:BARBLI495@yahoo.com
END:VEVENT
BEGIN:VEVENT
DTSTART;TZID=America/New_York:20180911T183000
DTEND;TZID=America/New_York:20180911T200000
DTSTAMP:20260425T224035
CREATED:20180816T133434Z
LAST-MODIFIED:20180816T133434Z
UID:1282-1536690600-1536696000@decisionwomen.org
SUMMARY:September Board Meeting
DESCRIPTION:Comsewogue Library\n6:30-8 pm
URL:https://decisionwomen.org/event/september-board-meeting/
LOCATION:Comesequoge Library\, 170 Terryville Rd\,\, Port Jefferson Station\, NY\, 11776
END:VEVENT
BEGIN:VEVENT
DTSTART;TZID=America/New_York:20180904T180000
DTEND;TZID=America/New_York:20180904T210000
DTSTAMP:20260425T224035
CREATED:20180324T144158Z
LAST-MODIFIED:20180816T160420Z
UID:1132-1536084000-1536094800@decisionwomen.org
SUMMARY:September General Meeting
DESCRIPTION:Tuesday\, September 4th \n6-9pm \nCarnival Restaurant – Port Jefferson Station \nOur featured presenter is Liz (Elizabeth) Sciuti:  Touchstone Director – Touchstone Crystal by Swarovski.\nLiz will be displaying some of the Touchstone Collection\, and a portion of the jewelry sales will go to our Decision Charity Funding\,  benefitting local charities.\nVisit Liz’s website: mytouchstonecrystal.com/LS
URL:https://decisionwomen.org/event/september-general-meeting/
ATTACH;FMTTYPE=image/jpeg:https://decisionwomen.org/wp-content/uploads/2018/03/Liz-Sciuti-Touchstone-Director-2018-e1536715058654.jpg
END:VEVENT
BEGIN:VEVENT
DTSTART;TZID=America/New_York:20180814T180000
DTEND;TZID=America/New_York:20180814T200000
DTSTAMP:20260425T224035
CREATED:20170905T180913Z
LAST-MODIFIED:20180803T132409Z
UID:911-1534269600-1534276800@decisionwomen.org
SUMMARY:August Monthly Board Meeting
DESCRIPTION:  \nOur September 4th presenter will be speaking about Swarowski Crystal!! \nA percentage of sales will be designated for our Charities. \n  \nRSVP by 8/31: Cathy Curry\, ccurry631@gmail.com or 631-451-6116
URL:https://decisionwomen.org/event/august-monthly-board-meeting/
LOCATION:Carnival Restaurant\, 4900 Nesconset Highway\, Port Jefferson Station\, 11776\, United States
END:VEVENT
BEGIN:VEVENT
DTSTART;TZID=America/New_York:20180809T100000
DTEND;TZID=America/New_York:20180811T190000
DTSTAMP:20260425T224035
CREATED:20180804T162537Z
LAST-MODIFIED:20180804T162537Z
UID:1269-1533808800-1534014000@decisionwomen.org
SUMMARY:The Boutique HC Super Summer Tent Sale
DESCRIPTION:MUSIC – SNACKS – REFRESHMENTS!!!\n8/9 to 8/11: 10am – 7pm Daily
URL:https://decisionwomen.org/event/the-boutique-hc-super-summer-tent-sale/
LOCATION:The Boutique HC\, 150 Route 25A\, Mount Sinai\, NY\, 11766\, United States
END:VEVENT
BEGIN:VEVENT
DTSTART;TZID=America/New_York:20180807T180000
DTEND;TZID=America/New_York:20180807T210000
DTSTAMP:20260425T224035
CREATED:20180324T143816Z
LAST-MODIFIED:20180803T123924Z
UID:1126-1533664800-1533675600@decisionwomen.org
SUMMARY:Decision Summer Soiree BBQ & Pool Party
DESCRIPTION:Tuesday\, August 7th \n6-9PM \nMarion McNulty \n3 North Harbor Down \nMiller Place \nRSVP: (631)928-2557 ~ Leave Message Please \n$25 PP and Bring Bathing Suits & Towels
URL:https://decisionwomen.org/event/decision-summer-soiree/
LOCATION:Marion McNulty\, 3 North Harbor Down\, Miller Place\, NY\, 11764\, United States
END:VEVENT
BEGIN:VEVENT
DTSTART;VALUE=DATE:20180703
DTEND;VALUE=DATE:20180704
DTSTAMP:20260425T224035
CREATED:20180324T142950Z
LAST-MODIFIED:20180324T142950Z
UID:1120-1530576000-1530662399@decisionwomen.org
SUMMARY:Happy 4th of July! ~ No Meeting
DESCRIPTION:Happy 4th of July! \nNo Meeting this month ~ Enjoy!
URL:https://decisionwomen.org/event/happy-4th-of-july-no-meeting/
END:VEVENT
BEGIN:VEVENT
DTSTART;TZID=America/New_York:20180605T180000
DTEND;TZID=America/New_York:20180605T210000
DTSTAMP:20260425T224035
CREATED:20180324T142543Z
LAST-MODIFIED:20180324T142543Z
UID:1116-1528221600-1528232400@decisionwomen.org
SUMMARY:Decision Board Installation
DESCRIPTION:Tuesday\, June 5th \n6-9PM \nDetails TBA
URL:https://decisionwomen.org/event/decision-board-installation/
END:VEVENT
END:VCALENDAR