BEGIN:VCALENDAR
VERSION:2.0
PRODID:-//Decision Women in Commerce and Professions - ECPv6.11.2.1//NONSGML v1.0//EN
CALSCALE:GREGORIAN
METHOD:PUBLISH
X-WR-CALNAME:Decision Women in Commerce and Professions
X-ORIGINAL-URL:https://decisionwomen.org
X-WR-CALDESC:Events for Decision Women in Commerce and Professions
REFRESH-INTERVAL;VALUE=DURATION:PT1H
X-Robots-Tag:noindex
X-PUBLISHED-TTL:PT1H
BEGIN:VTIMEZONE
TZID:America/New_York
BEGIN:DAYLIGHT
TZOFFSETFROM:-0500
TZOFFSETTO:-0400
TZNAME:EDT
DTSTART:20220313T070000
END:DAYLIGHT
BEGIN:STANDARD
TZOFFSETFROM:-0400
TZOFFSETTO:-0500
TZNAME:EST
DTSTART:20221106T060000
END:STANDARD
BEGIN:DAYLIGHT
TZOFFSETFROM:-0500
TZOFFSETTO:-0400
TZNAME:EDT
DTSTART:20230312T070000
END:DAYLIGHT
BEGIN:STANDARD
TZOFFSETFROM:-0400
TZOFFSETTO:-0500
TZNAME:EST
DTSTART:20231105T060000
END:STANDARD
END:VTIMEZONE
BEGIN:VEVENT
DTSTART;TZID=America/New_York:20231010T180000
DTEND;TZID=America/New_York:20231010T203000
DTSTAMP:20260425T064253
CREATED:20230814T174648Z
LAST-MODIFIED:20230814T174648Z
UID:2288-1696960800-1696969800@decisionwomen.org
SUMMARY:Joint Meeting with Northwell at Port Jefferson Village Center!
DESCRIPTION:Don’t miss our joint meeting with Northwell at the Port Jefferson Village Center!
URL:https://decisionwomen.org/event/joint-meeting-with-northwell-at-port-jefferson-village-center/
LOCATION:Port Jefferson Village Center\, 101 E. Broadway\, Port Jefferson\, NY\, 11777\, United States
END:VEVENT
BEGIN:VEVENT
DTSTART;TZID=America/New_York:20231003T180000
DTEND;TZID=America/New_York:20231003T203000
DTSTAMP:20260425T064253
CREATED:20221223T182638Z
LAST-MODIFIED:20230914T172123Z
UID:2239-1696356000-1696365000@decisionwomen.org
SUMMARY:Membership Drive 2023!
DESCRIPTION:Join us for our 2023 Membership Drive! \nWhere: The Meadow Club \nAddress: 1147 Route 112\, Port Jeff Station \nDate: Tuesday\, October 3rd \nTime: 6-9pm \nInfo: Join us for our October Open House! A Women’s Elite Panel will be discussing The Barbie Effect – the lessons powerful women learn. \nRSVP: lmitchel@pwgrosser.com
URL:https://decisionwomen.org/event/monthly-membership-meeting-14/
LOCATION:The Meadow Club\, 1147 Route 112\, Port Jefferson Station\, NY\, 11776\, United States
END:VEVENT
BEGIN:VEVENT
DTSTART;TZID=America/New_York:20230905T180000
DTEND;TZID=America/New_York:20230905T203000
DTSTAMP:20260425T064253
CREATED:20221223T182519Z
LAST-MODIFIED:20221223T182609Z
UID:2237-1693936800-1693945800@decisionwomen.org
SUMMARY:Monthly Membership Meeting
DESCRIPTION:Join us for our monthly meeting!
URL:https://decisionwomen.org/event/monthly-membership-meeting-13/
LOCATION:Hilton Garden Inn Stony Brook\, 1 Circle Road\, Stony Brook\, NY\, 11794\, United States
END:VEVENT
BEGIN:VEVENT
DTSTART;TZID=America/New_York:20230808T180000
DTEND;TZID=America/New_York:20230808T203000
DTSTAMP:20260425T064253
CREATED:20221223T181955Z
LAST-MODIFIED:20230719T052506Z
UID:2233-1691517600-1691526600@decisionwomen.org
SUMMARY:Summer Soiree
DESCRIPTION:Our Annual Summer Soiree is an evening of laughter\, memories\, and great company.  We look forward to seeing you! Details to be emailed to membership.
URL:https://decisionwomen.org/event/summer-soiree-2/
LOCATION:NY
END:VEVENT
BEGIN:VEVENT
DTSTART;TZID=America/New_York:20230606T180000
DTEND;TZID=America/New_York:20230606T203000
DTSTAMP:20260425T064253
CREATED:20221223T182406Z
LAST-MODIFIED:20221223T182406Z
UID:2235-1686074400-1686083400@decisionwomen.org
SUMMARY:Installation Dinner 2023
DESCRIPTION:Don’t miss our Installation Dinner\, as we welcome in our Board!
URL:https://decisionwomen.org/event/installation-dinner-2023/
LOCATION:NY
END:VEVENT
BEGIN:VEVENT
DTSTART;TZID=America/New_York:20230502T180000
DTEND;TZID=America/New_York:20230502T203000
DTSTAMP:20260425T064253
CREATED:20221223T181905Z
LAST-MODIFIED:20221223T181905Z
UID:2231-1683050400-1683059400@decisionwomen.org
SUMMARY:Monthly Membership Meeting
DESCRIPTION:Join us for our monthly meeting!
URL:https://decisionwomen.org/event/monthly-membership-meeting-12/
LOCATION:Hilton Garden Inn Stony Brook\, 1 Circle Road\, Stony Brook\, NY\, 11794\, United States
END:VEVENT
BEGIN:VEVENT
DTSTART;TZID=America/New_York:20230415T140000
DTEND;TZID=America/New_York:20230415T160000
DTSTAMP:20260425T064253
CREATED:20230209T232529Z
LAST-MODIFIED:20230209T232529Z
UID:2255-1681567200-1681574400@decisionwomen.org
SUMMARY:Davis Town Meeting House Society's Victorian Tea!
DESCRIPTION:
URL:https://decisionwomen.org/event/davis-town-meeting-house-societys-victorian-tea/
LOCATION:Old Coram Fire Department\, 303 Middle Country Road\, Coram\, NY\, 11727\, United States
END:VEVENT
BEGIN:VEVENT
DTSTART;TZID=America/New_York:20230411T180000
DTEND;TZID=America/New_York:20230411T203000
DTSTAMP:20260425T064253
CREATED:20221223T181840Z
LAST-MODIFIED:20230325T155744Z
UID:2229-1681236000-1681245000@decisionwomen.org
SUMMARY:Monthly Membership Meeting
DESCRIPTION:Join us for our monthly meeting!
URL:https://decisionwomen.org/event/monthly-membership-meeting-11/
LOCATION:Hilton Garden Inn Stony Brook\, 1 Circle Road\, Stony Brook\, NY\, 11794\, United States
END:VEVENT
BEGIN:VEVENT
DTSTART;TZID=America/New_York:20230307T180000
DTEND;TZID=America/New_York:20230307T203000
DTSTAMP:20260425T064253
CREATED:20221223T181813Z
LAST-MODIFIED:20221223T181813Z
UID:2227-1678212000-1678221000@decisionwomen.org
SUMMARY:Monthly Membership Meeting
DESCRIPTION:Join us for our monthly meeting!
URL:https://decisionwomen.org/event/monthly-membership-meeting-10/
LOCATION:Hilton Garden Inn Stony Brook\, 1 Circle Road\, Stony Brook\, NY\, 11794\, United States
END:VEVENT
BEGIN:VEVENT
DTSTART;TZID=America/New_York:20230207T180000
DTEND;TZID=America/New_York:20230207T203000
DTSTAMP:20260425T064253
CREATED:20221223T181646Z
LAST-MODIFIED:20221223T181646Z
UID:2205-1675792800-1675801800@decisionwomen.org
SUMMARY:Monthly Membership Meeting
DESCRIPTION:Join us for our monthly meeting!
URL:https://decisionwomen.org/event/monthly-membership-meeting-9/
LOCATION:Hilton Garden Inn Stony Brook\, 1 Circle Road\, Stony Brook\, NY\, 11794\, United States
END:VEVENT
BEGIN:VEVENT
DTSTART;VALUE=DATE:20230101
DTEND;VALUE=DATE:20230102
DTSTAMP:20260425T064253
CREATED:20211228T174527Z
LAST-MODIFIED:20211228T174527Z
UID:2052-1672531200-1672617599@decisionwomen.org
SUMMARY:New Year's Day
DESCRIPTION:
URL:https://decisionwomen.org/event/new-years-day-2/
LOCATION:NY
END:VEVENT
BEGIN:VEVENT
DTSTART;VALUE=DATE:20221226
DTEND;VALUE=DATE:20221227
DTSTAMP:20260425T064253
CREATED:20211228T174951Z
LAST-MODIFIED:20211228T174951Z
UID:2060-1672012800-1672099199@decisionwomen.org
SUMMARY:Last Day of Chanukah
DESCRIPTION:
URL:https://decisionwomen.org/event/last-day-of-chanukah-2/
LOCATION:NY
END:VEVENT
BEGIN:VEVENT
DTSTART;VALUE=DATE:20221225
DTEND;VALUE=DATE:20221226
DTSTAMP:20260425T064253
CREATED:20211228T174816Z
LAST-MODIFIED:20211228T174816Z
UID:2056-1671926400-1672012799@decisionwomen.org
SUMMARY:Christmas Day
DESCRIPTION:
URL:https://decisionwomen.org/event/christmas-day-3/
LOCATION:NY
END:VEVENT
BEGIN:VEVENT
DTSTART;VALUE=DATE:20221218
DTEND;VALUE=DATE:20221219
DTSTAMP:20260425T064253
CREATED:20211228T174907Z
LAST-MODIFIED:20211228T174907Z
UID:2058-1671321600-1671407999@decisionwomen.org
SUMMARY:First Day of Chanukah
DESCRIPTION:
URL:https://decisionwomen.org/event/first-day-of-chanukah-2/
LOCATION:NY
END:VEVENT
BEGIN:VEVENT
DTSTART;TZID=America/New_York:20221213T180000
DTEND;TZID=America/New_York:20221213T200000
DTSTAMP:20260425T064253
CREATED:20210609T201527Z
LAST-MODIFIED:20210609T201527Z
UID:1980-1670954400-1670961600@decisionwomen.org
SUMMARY:Board Meeting
DESCRIPTION:
URL:https://decisionwomen.org/event/board-meeting-20/
LOCATION:NY
END:VEVENT
BEGIN:VEVENT
DTSTART;TZID=America/New_York:20221206T180000
DTEND;TZID=America/New_York:20221206T210000
DTSTAMP:20260425T064253
CREATED:20211228T174418Z
LAST-MODIFIED:20211228T174418Z
UID:2050-1670349600-1670360400@decisionwomen.org
SUMMARY:December 2022 Holiday Party!
DESCRIPTION:We look forward to you joining us at our Holiday Party!
URL:https://decisionwomen.org/event/december-2022-holiday-party/
LOCATION:The Meadow Club\, 1147 Route 112\, Port Jefferson Station\, NY\, 11776\, United States
END:VEVENT
BEGIN:VEVENT
DTSTART;VALUE=DATE:20221124
DTEND;VALUE=DATE:20221125
DTSTAMP:20260425T064253
CREATED:20211228T174639Z
LAST-MODIFIED:20211228T174639Z
UID:2054-1669248000-1669334399@decisionwomen.org
SUMMARY:Thanksgiving Day
DESCRIPTION:
URL:https://decisionwomen.org/event/thanksgiving-day-2/
LOCATION:NY
END:VEVENT
BEGIN:VEVENT
DTSTART;TZID=America/New_York:20221108T180000
DTEND;TZID=America/New_York:20221108T200000
DTSTAMP:20260425T064253
CREATED:20210609T201501Z
LAST-MODIFIED:20210609T201501Z
UID:1978-1667930400-1667937600@decisionwomen.org
SUMMARY:Board Meeting
DESCRIPTION:
URL:https://decisionwomen.org/event/board-meeting-19/
LOCATION:NY
END:VEVENT
BEGIN:VEVENT
DTSTART;TZID=America/New_York:20221101T180000
DTEND;TZID=America/New_York:20221101T203000
DTSTAMP:20260425T064253
CREATED:20211228T174005Z
LAST-MODIFIED:20220117T044213Z
UID:2048-1667325600-1667334600@decisionwomen.org
SUMMARY:Monthly Membership Meeting
DESCRIPTION:Join us for our monthly meeting!
URL:https://decisionwomen.org/event/monthly-membership-meeting-6/
LOCATION:Hilton Garden Inn Stony Brook\, 1 Circle Road\, Stony Brook\, NY\, 11794\, United States
END:VEVENT
BEGIN:VEVENT
DTSTART;TZID=America/New_York:20221011T180000
DTEND;TZID=America/New_York:20221011T200000
DTSTAMP:20260425T064253
CREATED:20210609T201438Z
LAST-MODIFIED:20210609T201438Z
UID:1976-1665511200-1665518400@decisionwomen.org
SUMMARY:Board Meeting
DESCRIPTION:
URL:https://decisionwomen.org/event/board-meeting-18/
LOCATION:NY
END:VEVENT
BEGIN:VEVENT
DTSTART;TZID=America/New_York:20221004T180000
DTEND;TZID=America/New_York:20221004T203000
DTSTAMP:20260425T064253
CREATED:20220117T044349Z
LAST-MODIFIED:20220117T044349Z
UID:2077-1664906400-1664915400@decisionwomen.org
SUMMARY:Monthly Membership Meeting
DESCRIPTION:Join us for our monthly meeting!
URL:https://decisionwomen.org/event/monthly-membership-meeting-7/
LOCATION:Hilton Garden Inn Stony Brook\, 1 Circle Road\, Stony Brook\, NY\, 11794\, United States
END:VEVENT
BEGIN:VEVENT
DTSTART;TZID=America/New_York:20220915T183000
DTEND;TZID=America/New_York:20220915T210000
DTSTAMP:20260425T064253
CREATED:20220622T162948Z
LAST-MODIFIED:20220622T162948Z
UID:2166-1663266600-1663275600@decisionwomen.org
SUMMARY:Long Island Ducks Home Game 9/15
DESCRIPTION:6:35 Game vs. South Maryland Blue Crabs \nFor tickets\, contact Ellen @ 516-816-6700 \nBox seats available! \n 
URL:https://decisionwomen.org/event/long-island-ducks-home-game-9-15/
LOCATION:Fairfield Properties Ballpark\, 3 Court House Drive\, Central Islip\, NY\, 11722\, United States
END:VEVENT
BEGIN:VEVENT
DTSTART;TZID=America/New_York:20220914T183000
DTEND;TZID=America/New_York:20220914T210000
DTSTAMP:20260425T064253
CREATED:20220622T162927Z
LAST-MODIFIED:20220622T162927Z
UID:2164-1663180200-1663189200@decisionwomen.org
SUMMARY:Long Island Ducks Home Game 9/14
DESCRIPTION:6:35 Game vs. South Maryland Blue Crabs \nFor tickets\, contact Ellen @ 516-816-6700 \nBox seats available! \n 
URL:https://decisionwomen.org/event/long-island-ducks-home-game-9-14/
LOCATION:Fairfield Properties Ballpark\, 3 Court House Drive\, Central Islip\, NY\, 11722\, United States
END:VEVENT
BEGIN:VEVENT
DTSTART;TZID=America/New_York:20220913T183000
DTEND;TZID=America/New_York:20220913T210000
DTSTAMP:20260425T064253
CREATED:20220622T162904Z
LAST-MODIFIED:20220622T162904Z
UID:2162-1663093800-1663102800@decisionwomen.org
SUMMARY:Long Island Ducks Home Game 9/13
DESCRIPTION:6:35 Game vs. South Maryland Blue Crabs \nFor tickets\, contact Ellen @ 516-816-6700 \nBox seats available! \n 
URL:https://decisionwomen.org/event/long-island-ducks-home-game-9-13/
LOCATION:Fairfield Properties Ballpark\, 3 Court House Drive\, Central Islip\, NY\, 11722\, United States
END:VEVENT
BEGIN:VEVENT
DTSTART;TZID=America/New_York:20220913T180000
DTEND;TZID=America/New_York:20220913T200000
DTSTAMP:20260425T064253
CREATED:20210609T201416Z
LAST-MODIFIED:20210609T201416Z
UID:1974-1663092000-1663099200@decisionwomen.org
SUMMARY:Board Meeting
DESCRIPTION:
URL:https://decisionwomen.org/event/board-meeting-17/
LOCATION:NY
END:VEVENT
BEGIN:VEVENT
DTSTART;TZID=America/New_York:20220911T133000
DTEND;TZID=America/New_York:20220911T160000
DTSTAMP:20260425T064253
CREATED:20220622T162749Z
LAST-MODIFIED:20220622T162749Z
UID:2160-1662903000-1662912000@decisionwomen.org
SUMMARY:Long Island Ducks Home Game 9/11
DESCRIPTION:1:35 Game vs. Staten Island Ferry Hawks \nFor tickets\, contact Ellen @ 516-816-6700 \nBox seats available! \n 
URL:https://decisionwomen.org/event/long-island-ducks-home-game-9-11/
LOCATION:Fairfield Properties Ballpark\, 3 Court House Drive\, Central Islip\, NY\, 11722\, United States
END:VEVENT
BEGIN:VEVENT
DTSTART;TZID=America/New_York:20220910T183000
DTEND;TZID=America/New_York:20220910T210000
DTSTAMP:20260425T064253
CREATED:20220622T162653Z
LAST-MODIFIED:20220622T162653Z
UID:2158-1662834600-1662843600@decisionwomen.org
SUMMARY:Long Island Ducks Home Game 9/10
DESCRIPTION:6:35 Game vs. Staten Island Ferry Hawks \nFor tickets\, contact Ellen @ 516-816-6700 \nBox seats available! \n 
URL:https://decisionwomen.org/event/long-island-ducks-home-game-9-10/
LOCATION:Fairfield Properties Ballpark\, 3 Court House Drive\, Central Islip\, NY\, 11722\, United States
END:VEVENT
BEGIN:VEVENT
DTSTART;TZID=America/New_York:20220909T183000
DTEND;TZID=America/New_York:20220909T210000
DTSTAMP:20260425T064253
CREATED:20220622T162628Z
LAST-MODIFIED:20220622T162628Z
UID:2156-1662748200-1662757200@decisionwomen.org
SUMMARY:Long Island Ducks Home Game 9/9
DESCRIPTION:6:35 Game vs. Staten Island Ferry Hawks \nFor tickets\, contact Ellen @ 516-816-6700 \nBox seats available! \n 
URL:https://decisionwomen.org/event/long-island-ducks-home-game-9-9/
LOCATION:Fairfield Properties Ballpark\, 3 Court House Drive\, Central Islip\, NY\, 11722\, United States
END:VEVENT
BEGIN:VEVENT
DTSTART;TZID=America/New_York:20220906T180000
DTEND;TZID=America/New_York:20220906T203000
DTSTAMP:20260425T064253
CREATED:20211228T173743Z
LAST-MODIFIED:20220117T044253Z
UID:2044-1662487200-1662496200@decisionwomen.org
SUMMARY:Monthly Membership Meeting
DESCRIPTION:Join us for our monthly meeting!
URL:https://decisionwomen.org/event/monthly-membership-meeting-5/
LOCATION:Hilton Garden Inn Stony Brook\, 1 Circle Road\, Stony Brook\, NY\, 11794\, United States
END:VEVENT
BEGIN:VEVENT
DTSTART;TZID=America/New_York:20220901T183000
DTEND;TZID=America/New_York:20220901T210000
DTSTAMP:20260425T064253
CREATED:20220622T162537Z
LAST-MODIFIED:20220622T162537Z
UID:2154-1662057000-1662066000@decisionwomen.org
SUMMARY:Long Island Ducks Home Game 9/1
DESCRIPTION:6:35 Game vs. Lancaster Barnstormers \nFor tickets\, contact Ellen @ 516-816-6700 \nBox seats available! \n 
URL:https://decisionwomen.org/event/long-island-ducks-home-game-9-1/
LOCATION:Fairfield Properties Ballpark\, 3 Court House Drive\, Central Islip\, NY\, 11722\, United States
END:VEVENT
END:VCALENDAR