BEGIN:VCALENDAR
VERSION:2.0
PRODID:-//Decision Women in Commerce and Professions - ECPv6.11.2.1//NONSGML v1.0//EN
CALSCALE:GREGORIAN
METHOD:PUBLISH
X-WR-CALNAME:Decision Women in Commerce and Professions
X-ORIGINAL-URL:https://decisionwomen.org
X-WR-CALDESC:Events for Decision Women in Commerce and Professions
REFRESH-INTERVAL;VALUE=DURATION:PT1H
X-Robots-Tag:noindex
X-PUBLISHED-TTL:PT1H
BEGIN:VTIMEZONE
TZID:America/New_York
BEGIN:DAYLIGHT
TZOFFSETFROM:-0500
TZOFFSETTO:-0400
TZNAME:EDT
DTSTART:20220313T070000
END:DAYLIGHT
BEGIN:STANDARD
TZOFFSETFROM:-0400
TZOFFSETTO:-0500
TZNAME:EST
DTSTART:20221106T060000
END:STANDARD
END:VTIMEZONE
BEGIN:VEVENT
DTSTART;TZID=America/New_York:20220913T180000
DTEND;TZID=America/New_York:20220913T200000
DTSTAMP:20260425T114719
CREATED:20210609T201416Z
LAST-MODIFIED:20210609T201416Z
UID:1974-1663092000-1663099200@decisionwomen.org
SUMMARY:Board Meeting
DESCRIPTION:
URL:https://decisionwomen.org/event/board-meeting-17/
LOCATION:NY
END:VEVENT
BEGIN:VEVENT
DTSTART;TZID=America/New_York:20220911T133000
DTEND;TZID=America/New_York:20220911T160000
DTSTAMP:20260425T114719
CREATED:20220622T162749Z
LAST-MODIFIED:20220622T162749Z
UID:2160-1662903000-1662912000@decisionwomen.org
SUMMARY:Long Island Ducks Home Game 9/11
DESCRIPTION:1:35 Game vs. Staten Island Ferry Hawks \nFor tickets\, contact Ellen @ 516-816-6700 \nBox seats available! \n 
URL:https://decisionwomen.org/event/long-island-ducks-home-game-9-11/
LOCATION:Fairfield Properties Ballpark\, 3 Court House Drive\, Central Islip\, NY\, 11722\, United States
END:VEVENT
BEGIN:VEVENT
DTSTART;TZID=America/New_York:20220910T183000
DTEND;TZID=America/New_York:20220910T210000
DTSTAMP:20260425T114719
CREATED:20220622T162653Z
LAST-MODIFIED:20220622T162653Z
UID:2158-1662834600-1662843600@decisionwomen.org
SUMMARY:Long Island Ducks Home Game 9/10
DESCRIPTION:6:35 Game vs. Staten Island Ferry Hawks \nFor tickets\, contact Ellen @ 516-816-6700 \nBox seats available! \n 
URL:https://decisionwomen.org/event/long-island-ducks-home-game-9-10/
LOCATION:Fairfield Properties Ballpark\, 3 Court House Drive\, Central Islip\, NY\, 11722\, United States
END:VEVENT
BEGIN:VEVENT
DTSTART;TZID=America/New_York:20220909T183000
DTEND;TZID=America/New_York:20220909T210000
DTSTAMP:20260425T114719
CREATED:20220622T162628Z
LAST-MODIFIED:20220622T162628Z
UID:2156-1662748200-1662757200@decisionwomen.org
SUMMARY:Long Island Ducks Home Game 9/9
DESCRIPTION:6:35 Game vs. Staten Island Ferry Hawks \nFor tickets\, contact Ellen @ 516-816-6700 \nBox seats available! \n 
URL:https://decisionwomen.org/event/long-island-ducks-home-game-9-9/
LOCATION:Fairfield Properties Ballpark\, 3 Court House Drive\, Central Islip\, NY\, 11722\, United States
END:VEVENT
BEGIN:VEVENT
DTSTART;TZID=America/New_York:20220906T180000
DTEND;TZID=America/New_York:20220906T203000
DTSTAMP:20260425T114719
CREATED:20211228T173743Z
LAST-MODIFIED:20220117T044253Z
UID:2044-1662487200-1662496200@decisionwomen.org
SUMMARY:Monthly Membership Meeting
DESCRIPTION:Join us for our monthly meeting!
URL:https://decisionwomen.org/event/monthly-membership-meeting-5/
LOCATION:Hilton Garden Inn Stony Brook\, 1 Circle Road\, Stony Brook\, NY\, 11794\, United States
END:VEVENT
BEGIN:VEVENT
DTSTART;TZID=America/New_York:20220901T183000
DTEND;TZID=America/New_York:20220901T210000
DTSTAMP:20260425T114719
CREATED:20220622T162537Z
LAST-MODIFIED:20220622T162537Z
UID:2154-1662057000-1662066000@decisionwomen.org
SUMMARY:Long Island Ducks Home Game 9/1
DESCRIPTION:6:35 Game vs. Lancaster Barnstormers \nFor tickets\, contact Ellen @ 516-816-6700 \nBox seats available! \n 
URL:https://decisionwomen.org/event/long-island-ducks-home-game-9-1/
LOCATION:Fairfield Properties Ballpark\, 3 Court House Drive\, Central Islip\, NY\, 11722\, United States
END:VEVENT
BEGIN:VEVENT
DTSTART;TZID=America/New_York:20220831T183000
DTEND;TZID=America/New_York:20220831T210000
DTSTAMP:20260425T114719
CREATED:20220622T162504Z
LAST-MODIFIED:20220622T162504Z
UID:2152-1661970600-1661979600@decisionwomen.org
SUMMARY:Long Island Ducks Home Game 8/31
DESCRIPTION:6:35 Game vs. Lancaster Barnstormers \nFor tickets\, contact Ellen @ 516-816-6700 \nBox seats available! \n 
URL:https://decisionwomen.org/event/long-island-ducks-home-game-8-31/
LOCATION:Fairfield Properties Ballpark\, 3 Court House Drive\, Central Islip\, NY\, 11722\, United States
END:VEVENT
BEGIN:VEVENT
DTSTART;TZID=America/New_York:20220830T183000
DTEND;TZID=America/New_York:20220830T210000
DTSTAMP:20260425T114719
CREATED:20220622T162432Z
LAST-MODIFIED:20220622T162432Z
UID:2150-1661884200-1661893200@decisionwomen.org
SUMMARY:Long Island Ducks Home Game 8/30
DESCRIPTION:6:35 Game vs. Lancaster Barnstormers \nFor tickets\, contact Ellen @ 516-816-6700 \nBox seats available! \n 
URL:https://decisionwomen.org/event/long-island-ducks-home-game-8-30/
LOCATION:Fairfield Properties Ballpark\, 3 Court House Drive\, Central Islip\, NY\, 11722\, United States
END:VEVENT
BEGIN:VEVENT
DTSTART;TZID=America/New_York:20220828T170000
DTEND;TZID=America/New_York:20220828T193000
DTSTAMP:20260425T114719
CREATED:20220622T161903Z
LAST-MODIFIED:20220622T162234Z
UID:2148-1661706000-1661715000@decisionwomen.org
SUMMARY:Long Island Ducks Home Game 8/28
DESCRIPTION:5:05 Game vs. Charleston Dirty Birds \nFor tickets\, contact Ellen @ 516-816-6700 \nBox seats available! \n 
URL:https://decisionwomen.org/event/long-island-ducks-home-game-8-28/
LOCATION:Fairfield Properties Ballpark\, 3 Court House Drive\, Central Islip\, NY\, 11722\, United States
END:VEVENT
BEGIN:VEVENT
DTSTART;TZID=America/New_York:20220826T183000
DTEND;TZID=America/New_York:20220826T210000
DTSTAMP:20260425T114719
CREATED:20220622T161817Z
LAST-MODIFIED:20220622T161817Z
UID:2146-1661538600-1661547600@decisionwomen.org
SUMMARY:Long Island Ducks Home Game 8/26
DESCRIPTION:6:35 Game vs. Charleston Dirty Birds \nFor tickets\, contact Ellen @ 516-816-6700 \nBox seats available! \n 
URL:https://decisionwomen.org/event/long-island-ducks-home-game-8-26/
LOCATION:Fairfield Properties Ballpark\, 3 Court House Drive\, Central Islip\, NY\, 11722\, United States
END:VEVENT
BEGIN:VEVENT
DTSTART;TZID=America/New_York:20220818T183000
DTEND;TZID=America/New_York:20220818T210000
DTSTAMP:20260425T114719
CREATED:20220622T161704Z
LAST-MODIFIED:20220622T161704Z
UID:2144-1660847400-1660856400@decisionwomen.org
SUMMARY:Long Island Ducks Home Game 8/18
DESCRIPTION:6:35 Game vs. Staten Island Ferry Hawks \nFor tickets\, contact Ellen @ 516-816-6700 \nBox seats available! \n 
URL:https://decisionwomen.org/event/long-island-ducks-home-game-8-18/
LOCATION:Fairfield Properties Ballpark\, 3 Court House Drive\, Central Islip\, NY\, 11722\, United States
END:VEVENT
BEGIN:VEVENT
DTSTART;TZID=America/New_York:20220817T183000
DTEND;TZID=America/New_York:20220817T210000
DTSTAMP:20260425T114719
CREATED:20220622T161635Z
LAST-MODIFIED:20220622T161635Z
UID:2142-1660761000-1660770000@decisionwomen.org
SUMMARY:Long Island Ducks Home Game 8/17
DESCRIPTION:6:35 Game vs. Staten Island Ferry Hawks \nFor tickets\, contact Ellen @ 516-816-6700 \nBox seats available! \n 
URL:https://decisionwomen.org/event/long-island-ducks-home-game-8-17/
LOCATION:Fairfield Properties Ballpark\, 3 Court House Drive\, Central Islip\, NY\, 11722\, United States
END:VEVENT
BEGIN:VEVENT
DTSTART;TZID=America/New_York:20220816T183000
DTEND;TZID=America/New_York:20220816T210000
DTSTAMP:20260425T114719
CREATED:20220622T161614Z
LAST-MODIFIED:20220622T161614Z
UID:2140-1660674600-1660683600@decisionwomen.org
SUMMARY:Long Island Ducks Home Game 8/16
DESCRIPTION:6:35 Game vs. Staten Island Ferry Hawks \nFor tickets\, contact Ellen @ 516-816-6700 \nBox seats available! \n 
URL:https://decisionwomen.org/event/long-island-ducks-home-game-8-16/
LOCATION:Fairfield Properties Ballpark\, 3 Court House Drive\, Central Islip\, NY\, 11722\, United States
END:VEVENT
BEGIN:VEVENT
DTSTART;TZID=America/New_York:20220814T170000
DTEND;TZID=America/New_York:20220814T193000
DTSTAMP:20260425T114719
CREATED:20220622T161528Z
LAST-MODIFIED:20220622T161528Z
UID:2138-1660496400-1660505400@decisionwomen.org
SUMMARY:Long Island Ducks Home Game 8/14
DESCRIPTION:5:05 Game vs. Charleston Dirty Birds \nFor tickets\, contact Ellen @ 516-816-6700 \nBox seats available! \n 
URL:https://decisionwomen.org/event/long-island-ducks-home-game-8-14/
LOCATION:Fairfield Properties Ballpark\, 3 Court House Drive\, Central Islip\, NY\, 11722\, United States
END:VEVENT
BEGIN:VEVENT
DTSTART;VALUE=DATE:20220813
DTEND;VALUE=DATE:20220814
DTSTAMP:20260425T114719
CREATED:20220112T180849Z
LAST-MODIFIED:20220117T044046Z
UID:2065-1660348800-1660435199@decisionwomen.org
SUMMARY:Decision Women Sponsoring Long Island Ducks Game!
DESCRIPTION:Don’t miss it!  Decision Women is proud to be sponsoring! \n  \n 
URL:https://decisionwomen.org/event/decision-women-sponsoring-the-long-island-ducks-8-13-22-game/
LOCATION:Fairfield Properties Ballpark\, 3 Court House Drive\, Central Islip\, NY\, 11722\, United States
END:VEVENT
BEGIN:VEVENT
DTSTART;TZID=America/New_York:20220809T180000
DTEND;TZID=America/New_York:20220809T200000
DTSTAMP:20260425T114719
CREATED:20210609T201354Z
LAST-MODIFIED:20210609T201354Z
UID:1972-1660068000-1660075200@decisionwomen.org
SUMMARY:Board Meeting
DESCRIPTION:
URL:https://decisionwomen.org/event/board-meeting-16/
LOCATION:NY
END:VEVENT
BEGIN:VEVENT
DTSTART;TZID=America/New_York:20220802T180000
DTEND;TZID=America/New_York:20220802T203000
DTSTAMP:20260425T114719
CREATED:20211228T173927Z
LAST-MODIFIED:20220117T044441Z
UID:2046-1659463200-1659472200@decisionwomen.org
SUMMARY:Summer Soiree
DESCRIPTION:Our Annual Summer Soiree is an evening of laughter\, memories\, and great company.  We look forward to seeing you!
URL:https://decisionwomen.org/event/summer-soiree/
LOCATION:NY
END:VEVENT
BEGIN:VEVENT
DTSTART;TZID=America/New_York:20220728T183000
DTEND;TZID=America/New_York:20220728T210000
DTSTAMP:20260425T114719
CREATED:20220622T161417Z
LAST-MODIFIED:20220622T161417Z
UID:2136-1659033000-1659042000@decisionwomen.org
SUMMARY:Long Island Ducks Home Game 7/28
DESCRIPTION:6:35 Game vs. Staten Island Ferry Hawks \nFor tickets\, contact Ellen @ 516-816-6700 \nBox seats available! \n 
URL:https://decisionwomen.org/event/long-island-ducks-home-game-7-28/
LOCATION:Fairfield Properties Ballpark\, 3 Court House Drive\, Central Islip\, NY\, 11722\, United States
END:VEVENT
BEGIN:VEVENT
DTSTART;TZID=America/New_York:20220727T183000
DTEND;TZID=America/New_York:20220727T210000
DTSTAMP:20260425T114719
CREATED:20220622T161356Z
LAST-MODIFIED:20220622T161356Z
UID:2134-1658946600-1658955600@decisionwomen.org
SUMMARY:Long Island Ducks Home Game 7/27
DESCRIPTION:6:35 Game vs. Staten Island Ferry Hawks \nFor tickets\, contact Ellen @ 516-816-6700 \nBox seats available! \n 
URL:https://decisionwomen.org/event/long-island-ducks-home-game-7-27/
LOCATION:Fairfield Properties Ballpark\, 3 Court House Drive\, Central Islip\, NY\, 11722\, United States
END:VEVENT
BEGIN:VEVENT
DTSTART;TZID=America/New_York:20220726T183000
DTEND;TZID=America/New_York:20220726T210000
DTSTAMP:20260425T114719
CREATED:20220622T161332Z
LAST-MODIFIED:20220622T161332Z
UID:2132-1658860200-1658869200@decisionwomen.org
SUMMARY:Long Island Ducks Home Game 7/26
DESCRIPTION:6:35 Game vs. Staten Island Ferry Hawks \nFor tickets\, contact Ellen @ 516-816-6700 \nBox seats available! \n 
URL:https://decisionwomen.org/event/long-island-ducks-home-game-7-26/
LOCATION:Fairfield Properties Ballpark\, 3 Court House Drive\, Central Islip\, NY\, 11722\, United States
END:VEVENT
BEGIN:VEVENT
DTSTART;TZID=America/New_York:20220724T183000
DTEND;TZID=America/New_York:20220724T210000
DTSTAMP:20260425T114719
CREATED:20220622T161251Z
LAST-MODIFIED:20220622T161251Z
UID:2130-1658687400-1658696400@decisionwomen.org
SUMMARY:Long Island Ducks Home Game 7/24
DESCRIPTION:6:35 Game vs. South Maryland Blue Crabs \nFor tickets\, contact Ellen @ 516-816-6700 \nBox seats available! \n 
URL:https://decisionwomen.org/event/long-island-ducks-home-game-7-24/
LOCATION:Fairfield Properties Ballpark\, 3 Court House Drive\, Central Islip\, NY\, 11722\, United States
END:VEVENT
BEGIN:VEVENT
DTSTART;TZID=America/New_York:20220723T183000
DTEND;TZID=America/New_York:20220723T210000
DTSTAMP:20260425T114719
CREATED:20220622T161224Z
LAST-MODIFIED:20220622T161224Z
UID:2128-1658601000-1658610000@decisionwomen.org
SUMMARY:Long Island Ducks Home Game 7/23
DESCRIPTION:6:35 Game vs. South Maryland Blue Crabs \nFor tickets\, contact Ellen @ 516-816-6700 \nBox seats available! \n 
URL:https://decisionwomen.org/event/long-island-ducks-home-game-7-23/
LOCATION:Fairfield Properties Ballpark\, 3 Court House Drive\, Central Islip\, NY\, 11722\, United States
END:VEVENT
BEGIN:VEVENT
DTSTART;TZID=America/New_York:20220714T110000
DTEND;TZID=America/New_York:20220714T133000
DTSTAMP:20260425T114719
CREATED:20220622T161040Z
LAST-MODIFIED:20220622T161040Z
UID:2126-1657796400-1657805400@decisionwomen.org
SUMMARY:Long Island Ducks Home Game 7/14
DESCRIPTION:11:05 Game vs. Lexington Legends \nFor tickets\, contact Ellen @ 516-816-6700 \nBox seats available! \n 
URL:https://decisionwomen.org/event/long-island-ducks-home-game-7-14/
LOCATION:Fairfield Properties Ballpark\, 3 Court House Drive\, Central Islip\, NY\, 11722\, United States
END:VEVENT
BEGIN:VEVENT
DTSTART;TZID=America/New_York:20220713T183000
DTEND;TZID=America/New_York:20220713T210000
DTSTAMP:20260425T114719
CREATED:20220622T160846Z
LAST-MODIFIED:20220622T160846Z
UID:2122-1657737000-1657746000@decisionwomen.org
SUMMARY:Long Island Ducks Home Game 7/13
DESCRIPTION:6:35 Game vs. Lexington Legends \nFor tickets\, contact Ellen @ 516-816-6700 \nBox seats available! \n 
URL:https://decisionwomen.org/event/long-island-ducks-home-game-7-13/
LOCATION:Fairfield Properties Ballpark\, 3 Court House Drive\, Central Islip\, NY\, 11722\, United States
END:VEVENT
BEGIN:VEVENT
DTSTART;TZID=America/New_York:20220712T183000
DTEND;TZID=America/New_York:20220712T210000
DTSTAMP:20260425T114719
CREATED:20220622T160117Z
LAST-MODIFIED:20220622T160737Z
UID:2118-1657650600-1657659600@decisionwomen.org
SUMMARY:Long Island Ducks Home Game 7/12
DESCRIPTION:6:35 Game vs. Lexington Legends \nFor tickets\, contact Ellen @ 516-816-6700 \nBox seats available! \n 
URL:https://decisionwomen.org/event/long-island-ducks-home-game-7-7/
LOCATION:Fairfield Properties Ballpark\, 3 Court House Drive\, Central Islip\, NY\, 11722\, United States
END:VEVENT
BEGIN:VEVENT
DTSTART;TZID=America/New_York:20220712T180000
DTEND;TZID=America/New_York:20220712T200000
DTSTAMP:20260425T114719
CREATED:20210609T201253Z
LAST-MODIFIED:20210609T201253Z
UID:1970-1657648800-1657656000@decisionwomen.org
SUMMARY:Board Meeting
DESCRIPTION:
URL:https://decisionwomen.org/event/board-meeting-15/
LOCATION:NY
END:VEVENT
BEGIN:VEVENT
DTSTART;TZID=America/New_York:20220707T130000
DTEND;TZID=America/New_York:20220707T153000
DTSTAMP:20260425T114719
CREATED:20220622T160947Z
LAST-MODIFIED:20220622T160947Z
UID:2124-1657198800-1657207800@decisionwomen.org
SUMMARY:Long Island Ducks Home Game 7/7
DESCRIPTION:1:00 Game vs. Staten Island Ferry Hawks \nFor tickets\, contact Ellen @ 516-816-6700 \nBox seats available! \n 
URL:https://decisionwomen.org/event/long-island-ducks-home-game-7-7-2/
LOCATION:Fairfield Properties Ballpark\, 3 Court House Drive\, Central Islip\, NY\, 11722\, United States
END:VEVENT
BEGIN:VEVENT
DTSTART;TZID=America/New_York:20220706T183000
DTEND;TZID=America/New_York:20220706T210000
DTSTAMP:20260425T114719
CREATED:20220622T160028Z
LAST-MODIFIED:20220622T160028Z
UID:2116-1657132200-1657141200@decisionwomen.org
SUMMARY:Long Island Ducks Home Game 7/6
DESCRIPTION:6:35 Game vs. Staten Island Ferry Hawks \nFor tickets\, contact Ellen @ 516-816-6700 \nBox seats available! \n 
URL:https://decisionwomen.org/event/long-island-ducks-home-game-7-6/
LOCATION:Fairfield Properties Ballpark\, 3 Court House Drive\, Central Islip\, NY\, 11722\, United States
END:VEVENT
BEGIN:VEVENT
DTSTART;TZID=America/New_York:20220703T183000
DTEND;TZID=America/New_York:20220703T210000
DTSTAMP:20260425T114719
CREATED:20220622T155911Z
LAST-MODIFIED:20220622T155911Z
UID:2114-1656873000-1656882000@decisionwomen.org
SUMMARY:Long Island Ducks Home Game 7/3
DESCRIPTION:6:35 Game vs. York Revolution \nFor tickets\, contact Ellen @ 516-816-6700 \nBox seats available! \n 
URL:https://decisionwomen.org/event/long-island-ducks-home-game-7-3/
LOCATION:Fairfield Properties Ballpark\, 3 Court House Drive\, Central Islip\, NY\, 11722\, United States
END:VEVENT
BEGIN:VEVENT
DTSTART;TZID=America/New_York:20220702T183000
DTEND;TZID=America/New_York:20220702T210000
DTSTAMP:20260425T114719
CREATED:20220622T155838Z
LAST-MODIFIED:20220622T155838Z
UID:2112-1656786600-1656795600@decisionwomen.org
SUMMARY:Long Island Ducks Home Game 7/2
DESCRIPTION:6:35 Game vs. York Revolution \nFor tickets\, contact Ellen @ 516-816-6700 \nBox seats available! \n 
URL:https://decisionwomen.org/event/long-island-ducks-home-game-7-2/
LOCATION:Fairfield Properties Ballpark\, 3 Court House Drive\, Central Islip\, NY\, 11722\, United States
END:VEVENT
END:VCALENDAR